BEGIN:VCALENDAR
VERSION:2.0
PRODID:-//Escoteiros SP - ECPv6.15.20//NONSGML v1.0//EN
CALSCALE:GREGORIAN
METHOD:PUBLISH
X-WR-CALNAME:Escoteiros SP
X-ORIGINAL-URL:https://www.escoteirossp.org.br
X-WR-CALDESC:Eventos para Escoteiros SP
REFRESH-INTERVAL;VALUE=DURATION:PT1H
X-Robots-Tag:noindex
X-PUBLISHED-TTL:PT1H
BEGIN:VTIMEZONE
TZID:America/Sao_Paulo
BEGIN:STANDARD
TZOFFSETFROM:-0300
TZOFFSETTO:-0300
TZNAME:-03
DTSTART:20240101T000000
END:STANDARD
END:VTIMEZONE
BEGIN:VEVENT
DTSTART;VALUE=DATE:20250301
DTEND;VALUE=DATE:20250601
DTSTAMP:20260424T140401
CREATED:20250208T133633Z
LAST-MODIFIED:20250306T194214Z
UID:46519-1740787200-1748735999@www.escoteirossp.org.br
SUMMARY:10º Mutept - Inclusão: DNA Escoteiro
DESCRIPTION:O que é evento\nEm sua 10a edição\, o Mutirão Regional Escotismo Para Todos (MutEPT) celebra o que está no DNA de cada Escoteiro: a inclusão e o respeito pela diversidade\, como ferramenta para a promoção da paz e compreensão entre os povos. \nO foco deste ano será sobre as deficiências cromossômicas\, como a Trissomia do 21 e a Síndrome do X-frágil\, ressaltando que não há DNA que não seja compatível com o Escotismo e que o Movimento Escoteiro é para todas as pessoas\, não importando a deficiência\, a orientação sexual\, o gênero\, a religião\, a raça ou etnia ou a condição socioeconômica. \nO evento tem seu início no mês de março\, o qual conta com diversas datas comemorativas\, como o Dia Mundial Zero Discriminação\, o Dia Internacional da Síndrome de Down e o Dia Internacional da Luta Contra a Discrininação Racial. Todas estas formas de representatividade e inclusão serão abordadas no 10o MutEPT\, inclusive em sua atividade prévia. \nCom isso\, desejamos a todos um excelente MutEPT e os convidamos para que façam o registro fotográfico ou em vídeo das atividades e postem nas redes sociais com as hashtags #MUTEPT2025\, #EscoteirosSP e #DNAescoteiro.\n \nQuando\n01 de março de 2025 a 31 de maio de 2025. \nQuem pode Participar\nJovens de todos os ramos. Escotistas e Dirigentes como aplicadores e/ou participantes da live. \nConfira todas as informações no boletim \nCaderno de atividades \n10º Mutept – Inclusão: DNA Escoteiro
URL:https://www.escoteirossp.org.br/evento/10o-mutept-inclusao-dna-escoteiro/
CATEGORIES:Descentralizado
ATTACH;FMTTYPE=image/png:https://www.escoteirossp.org.br/wp/wp-content/uploads/2025/02/MUTEPTsite.png
END:VEVENT
END:VCALENDAR