BEGIN:VCALENDAR
VERSION:2.0
PRODID:-//Escoteiros SP - ECPv6.15.20//NONSGML v1.0//EN
CALSCALE:GREGORIAN
METHOD:PUBLISH
X-WR-CALNAME:Escoteiros SP
X-ORIGINAL-URL:https://www.escoteirossp.org.br
X-WR-CALDESC:Eventos para Escoteiros SP
REFRESH-INTERVAL;VALUE=DURATION:PT1H
X-Robots-Tag:noindex
X-PUBLISHED-TTL:PT1H
BEGIN:VTIMEZONE
TZID:America/Sao_Paulo
BEGIN:STANDARD
TZOFFSETFROM:-0300
TZOFFSETTO:-0300
TZNAME:-03
DTSTART:20210101T000000
END:STANDARD
END:VTIMEZONE
BEGIN:VEVENT
DTSTART;TZID=America/Sao_Paulo:20221126T090000
DTEND;TZID=America/Sao_Paulo:20221126T130000
DTSTAMP:20260424T042857
CREATED:20221121T230314Z
LAST-MODIFIED:20221122T164226Z
UID:40163-1669453200-1669467600@www.escoteirossp.org.br
SUMMARY:1ª Reunião  Regional de IM4
DESCRIPTION:Considerando que o Marco de Referência da Insígnia de Madeira afirma que o adulto\nportador da Insígnia de Madeira 4 (IM4) tem como papel desenvolver uma estratégia\npara implementar o Programa Educativo no Movimento Escoteiro e conceituar e projetar\nsistemas de apoio para adultos. A Diretoria Regional de Métodos Educativos convida a você\npara participar da “1ª Reunião Regional de IM4”. \nQuando? \n26 de novembro de 2022 (sábado)\nAbertura prevista às 09h00\nEncerramento previsto para às 13h00 \nOnde?\nRemoto: através do link que será enviado aos inscritos \nQuem pode participar?\nTodos os associados portadores de Insígnia de Madeira 4 ( CNGA2 concluído ou equivalente)\, registrados no ano de 2022 na Região de São Paulo. Lembrando que a inscrição só será validada se essa informação estiver contida no Paxtu caso contrário será automaticamente cancelada a inscrição (todos os inscritos vão passar por esta triagem\, não havendo exceções). \nConfira todas as informações no boletim abaixo \nBoletim – 1ª Reunião Regional de IM4 \n  \n1ª Reunião  Regional de IM4
URL:https://www.escoteirossp.org.br/evento/1a-reuniao-regional-de-im4/
LOCATION:Online
CATEGORIES:Encontro,Online
ATTACH;FMTTYPE=image/png:https://www.escoteirossp.org.br/wp/wp-content/uploads/2022/11/R.IM4-Publicacao-copy.png
END:VEVENT
END:VCALENDAR