BEGIN:VCALENDAR
VERSION:2.0
PRODID:-//Escoteiros SP - ECPv6.15.20//NONSGML v1.0//EN
CALSCALE:GREGORIAN
METHOD:PUBLISH
X-WR-CALNAME:Escoteiros SP
X-ORIGINAL-URL:https://www.escoteirossp.org.br
X-WR-CALDESC:Eventos para Escoteiros SP
REFRESH-INTERVAL;VALUE=DURATION:PT1H
X-Robots-Tag:noindex
X-PUBLISHED-TTL:PT1H
BEGIN:VTIMEZONE
TZID:America/Sao_Paulo
BEGIN:STANDARD
TZOFFSETFROM:-0300
TZOFFSETTO:-0300
TZNAME:-03
DTSTART:20240101T000000
END:STANDARD
END:VTIMEZONE
BEGIN:VEVENT
DTSTART;TZID=America/Sao_Paulo:20250920T070000
DTEND;TZID=America/Sao_Paulo:20250921T143000
DTSTAMP:20260423T145413
CREATED:20250829T205721Z
LAST-MODIFIED:20250901T173700Z
UID:48493-1758351600-1758465000@www.escoteirossp.org.br
SUMMARY:1º CTMar Jovem
DESCRIPTION:Curso Técnico da Modalidade do Mar – Jovem\n \nChegou a vez dos jovens viverem uma experiência única. A 1ª edição do CTMar Jovem é um evento totalmente pensado para escoteiros e seniores\, que terão a oportunidade de mergulhar em conhecimentos e práticas fundamentais da vida no mar. \nSerá um momento de aprendizado\, aventura e descobertas\, onde cada jovem poderá desenvolver novas habilidades\, fortalecer sua autonomia e ampliar seu olhar sobre a importância da segurança e da preparação no ambiente aquático e marítimo. \nO CTMAR Jovem é mais do que um curso: é a chance de viver a magia da Modalidade do Mar\, criando memórias e experiências que vão te acompanhar para toda a vida. \nQuando\n20 e 21 setembro de 2025 – sábado e domingo\n3º final de semana do mês \nOnde\nGrupamento de Bombeiros Marítimos – GBMar\nR. Itapema\, 211 – Jardim Cunhambebe (Vicente de Carvalho) – Guarujá – SP\, 11450-530\nGrupamento de Bombeiros Marítimo – SALVAMAR PAULISTA \nQuem pode participar\nJovens dos Ramos Escoteiro e Sênior com suas obrigações em dia\, aptos em natação e esforço físico (para as atividades de vela) e já com idades próprias de cada Ramo. \nComo se inscrever\nExclusivamente via Meu PAXTU\, na área de Eventos\, de 2 de setembro de 2025 até 13 de setembro de  2025; ou até serem preenchidas todas as vagas. \nConfira todas informações:\nBoletim \n1º CTMar Jovem
URL:https://www.escoteirossp.org.br/evento/1o-ctmar-jovem/
LOCATION:Grupamento de Bombeiros Marítimos – GBMar\, R. Itapema\, 211 - Jardim Cunhambebe\, Guarujá\, 11450-530
CATEGORIES:Cursos
ATTACH;FMTTYPE=image/png:https://www.escoteirossp.org.br/wp/wp-content/uploads/2025/08/ctmarjov._siteevento.png
ORGANIZER;CN="Coordena%C3%A7%C3%A3o Regional da Modalidade do Mar":MAILTO:modalidadedomar.sp@escoteiros.org.br
END:VEVENT
END:VCALENDAR