BEGIN:VCALENDAR
VERSION:2.0
PRODID:-//Escoteiros SP - ECPv6.15.20//NONSGML v1.0//EN
CALSCALE:GREGORIAN
METHOD:PUBLISH
X-WR-CALNAME:Escoteiros SP
X-ORIGINAL-URL:https://www.escoteirossp.org.br
X-WR-CALDESC:Eventos para Escoteiros SP
REFRESH-INTERVAL;VALUE=DURATION:PT1H
X-Robots-Tag:noindex
X-PUBLISHED-TTL:PT1H
BEGIN:VTIMEZONE
TZID:America/Sao_Paulo
BEGIN:STANDARD
TZOFFSETFROM:-0300
TZOFFSETTO:-0300
TZNAME:-03
DTSTART:20210101T000000
END:STANDARD
END:VTIMEZONE
BEGIN:VEVENT
DTSTART;VALUE=DATE:20220319
DTEND;VALUE=DATE:20220321
DTSTAMP:20260423T164348
CREATED:20220124T201541Z
LAST-MODIFIED:20250121T180652Z
UID:37291-1647648000-1647820799@www.escoteirossp.org.br
SUMMARY:29ª Assembleia Regional Escoteira e 20º Fórum Regional de Jovens Líderes
DESCRIPTION:A Assembleia Regional é o órgão máximo\, representativo e normativo da Região Escoteira de São Paulo. Em suas reuniões ordinárias\, ocorrem a prestação de contas do nivel Regional do exercício anterior\, ante parecer da Comissão Fiscal Regional e a deliberação do orçamento para o próximo exercício; a apresentação do relatório de atividades da Diretoria Regional; a apresentação de recomendações do Fórum Regional de Jovens Líderes; os processos eleitorais para cargos do nível Regional e dos delegados representantes da Região Escoteira à Assembleia Nacional\, e assuntos gerais de interesse dos associados. Em suas reuniões extraordinárias\, são discutidos temas pertinentes e que demandam deliberação por parte da Assembleia.\nO Fórum Regional de Jovens Líderes (FRJL-SP) é a maior instância deliberativa da Rede de Jovens Líderes – SP. Em suas sessões ordinárias\, acontece a apresentação do relatório do Núcleo Regional de Jovens Líderes; a apreciação e deliberação de propostas de Grupos de Trabalho; a eleição dos cargos eletivos do Núcleo Regional de Jovens Líderes\, a eleição de delegados da Rede de Jovens Líderes – SP aos Fóruns Nacionais de Jovens Líderes e assuntos gerais de interesse dos associados entre 18 e 25 anos de idade. \nQuando?\n19 e 20 de março de 2022 \nFórum Regional de Jovens Líderes – 19 de Março de 2022\, com início previsto às 14h e término previsto às 18h. \nAssembleia Regional Extraordinária – 19 de Março de 2022\, com início previsto às 9h e término previsto às 12h. \nAssembleia Regional Ordinária – 20 de Março de 2022\, com início previsto às 9h e término previsto às 18h. \nOnde?\nOn-line \nQuem pode participar?\nQualquer Associado da Região de São Paulo\, com registro escoteiro válido na data da realização do evento. \nComo se inscrever?\nAssembleia Regional\nExclusivamente via Meu PAXTU\, na área de Eventos\, das 0h do dia 25 de Janeiro de 2022 (terça-feira) até às 23h59 do dia 18 de Março de 2022 (sexta-feira). \nA inscrição via Meu PAXTU\, para a Assembleia Regional\, é obrigatória apenas para quem deseja obter o certificado de participação. A participação é livre para qualquer associado da Região Escoteira de São Paulo com registro escoteiro válido. \nFórum Regional de Jovens Líderes \nExclusivamente via Meu PAXTU\, na área de Eventos\, das 0h do dia 25 de Janeiro de 2022 (terça-feira) até às 23h59 do dia 07 de Março de 2022 (segunda-feira). \nA inscrição via Meu PAXTU\, para o FRJL-SP\, é obrigatória para participação da plenária pelo Zoom e para garantia de voto\, visto que é necessária para receber o formulário de credenciamento pelo e-mail\, das 0h do dia 25 de Janeiro de 2022 (terça-feira) até às 23h59 do dia 07 de Março de 2022 (segunda-feira). \nArquivos importantes\nBoletim 1 \nBoletim 2 \nCandidatos(as)  \nInfográfico de Credenciamento \nTutorial de Credenciamento \nEdital de convocação para a 29ª Reunião Ordinária da ARE (CNPJ33) \nEdital de convocação para a 29ª Reunião Ordinária da ARE (CNPJ 11) \nEdital de convocação para a Reunião Extraordinária da ARE (CNPJ 33) \nAnexo – Edital de convocação para a Reunião Extraordinária da ARE (CNPJ 33) \nEdital de convocação para a Reunião Extraordinária da ARE (CNPJ 11) \nAnexo – Edital de convocação para a Reunião Extraordinária da ARE (CNPJ 11) \nEdital de convocação para o 20º Fórum Regional de Jovens Líderes \nProposta de Regulamento Regional para o CNPJ 33 (filial) \nProposta da chapa Conexão Escoteira \nProposta da chapa Espírito Escoteiro \nTabela de Delegados \nTransunto para credenciamento de delegados à Assembleia Regional \nParecer Comissão Fiscal: primeiro trimestre de 2021 \nParecer Comissão Fiscal: segundo trimestre de 2021 \nParecer Comissão Fiscal: terceiro trimestre de 2021 \nParecer Final da Comissão Fiscal Regional – 2021 \nDemonstrativo Financeiro 2021 \nPrevisão Orçamentária 2022-2023 \nBalanço Consolidado 2020 – 2021 \nTutorial para votação na 29ª Assembleia Regional Escoteira\nhttps://www.escoteirossp.org.br/wp/wp-content/uploads/2022/01/WhatsApp-Video-2022-03-18-at-21.04.40.mp4\n29ª Assembleia Regional Escoteira e 20º Fórum Regional de Jovens Líderes
URL:https://www.escoteirossp.org.br/evento/29a-assembleia-regional-escoteira-e-20o-forum-regional-de-jovens-lideres/
CATEGORIES:Assembleia
ATTACH;FMTTYPE=image/jpeg:https://www.escoteirossp.org.br/wp/wp-content/uploads/2018/03/assembleia2018-pedrocampos-escoteiros-sp-7.jpg
END:VEVENT
END:VCALENDAR