BEGIN:VCALENDAR
VERSION:2.0
PRODID:-//Escoteiros SP - ECPv6.15.20//NONSGML v1.0//EN
CALSCALE:GREGORIAN
METHOD:PUBLISH
X-WR-CALNAME:Escoteiros SP
X-ORIGINAL-URL:https://www.escoteirossp.org.br
X-WR-CALDESC:Eventos para Escoteiros SP
REFRESH-INTERVAL;VALUE=DURATION:PT1H
X-Robots-Tag:noindex
X-PUBLISHED-TTL:PT1H
BEGIN:VTIMEZONE
TZID:America/Sao_Paulo
BEGIN:STANDARD
TZOFFSETFROM:-0300
TZOFFSETTO:-0300
TZNAME:-03
DTSTART:20240101T000000
END:STANDARD
END:VTIMEZONE
BEGIN:VEVENT
DTSTART;TZID=America/Sao_Paulo:20250705T080000
DTEND;TZID=America/Sao_Paulo:20250705T160000
DTSTAMP:20260423T164337
CREATED:20250602T195556Z
LAST-MODIFIED:20250602T195556Z
UID:47578-1751702400-1751731200@www.escoteirossp.org.br
SUMMARY:2º Conferência Regional de Diversidade\, Inclusão e Acessibilidade
DESCRIPTION:Durante a Conferência Regional de Diversidade\, Inclusão e Acessibilidade\, trabalharemos temas relevantes sobre as políticas nacionais de Espaço Seguros\, Diversidade e Inclusão e Gestão de Riscos e sua aplicação na UEL e eventos Distritais e regionais. \nO evento reforça a necessidade de fazer do Escotismo um lugar em que qualquer pessoa possa participar das mais distintas formas\, tanto os jovens quanto os adultos. Para isso\, serão oferecidas palestras\, oficinas\, discussões e vivências nas quais encontraremos a resposta para que o Método Educativo dos Escoteiros do Brasil seja aplicado da maneira mais inclusiva possível\, consonante com os temas relevantes da sociedade civil. \nToda a programação da Conferência está voltada para a explanação da atualização de conceitos\, legislação e políticas concernentes à proteção infantojuvenil\, respeito e representatividade das minorias\, que estão presentes em grande parte das Unidades Escoteiras Locais. \nPara que um Mundo Melhor seja uma possibilidade e não apenas um sonho\, convidamos toda a Região Escoteira de São Paulo e de outras unidades federativas que se juntem a nós neste evento com o objetivo de favorecer o acolhimento de todas as pessoas dentro do Movimento Escoteiro. \nQuando\nSábado\, 05 de julho de 2025\n \nOnde\nUSCS – Universidade Municipal de São Caetano do Sul – Campus Centro\nRua Santo Antonio\, 50 – Centro São Caetano do Sul – SP\n\nQuanto\nO evento terá um custo de R$ 70\,00 \nConfira todas as informações:\nBoletim \n2º Conferência Regional de Diversidade\, Inclusão e Acessibilidade
URL:https://www.escoteirossp.org.br/evento/2o-conferencia-regional-de-diversidade-inclusao-e-acessibilidade/
LOCATION:USCS – Universidade Municipal de São Caetano do Sul – Campus Centro\, R. Santo Antonio\, 50 - Centro\, São Caetano do Sul\, São Paulo
CATEGORIES:Conferência
ATTACH;FMTTYPE=image/png:https://www.escoteirossp.org.br/wp/wp-content/uploads/2025/06/2CRDIA_site.png
END:VEVENT
END:VCALENDAR