BEGIN:VCALENDAR
VERSION:2.0
PRODID:-//Escoteiros SP - ECPv6.15.20//NONSGML v1.0//EN
CALSCALE:GREGORIAN
METHOD:PUBLISH
X-WR-CALNAME:Escoteiros SP
X-ORIGINAL-URL:https://www.escoteirossp.org.br
X-WR-CALDESC:Eventos para Escoteiros SP
REFRESH-INTERVAL;VALUE=DURATION:PT1H
X-Robots-Tag:noindex
X-PUBLISHED-TTL:PT1H
BEGIN:VTIMEZONE
TZID:America/Sao_Paulo
BEGIN:STANDARD
TZOFFSETFROM:-0300
TZOFFSETTO:-0300
TZNAME:-03
DTSTART:20220101T000000
END:STANDARD
END:VTIMEZONE
BEGIN:VEVENT
DTSTART;VALUE=DATE:20230318
DTEND;VALUE=DATE:20230320
DTSTAMP:20260423T150417
CREATED:20230214T211513Z
LAST-MODIFIED:20240318T191516Z
UID:40701-1679097600-1679270399@www.escoteirossp.org.br
SUMMARY:30ª Assembleia Regional Escoteira e 21º Fórum Regional de Jovens Líderes
DESCRIPTION:A Assembleia Regional é o órgão máximo\, representativo e normativo da Região Escoteira de São Paulo. Em suas reuniões ordinárias ocorrem a prestação de contas do nivel Regional do exercício anterior\, ante parecer da Comissão Fiscal Regional e a deliberação do orçamento para o próximo exercício; a apresentação do relatório de atividades da Diretoria Regional; a apresentação de recomendações do Fórum Regional de Jovens Líderes; os processos eleitorais para cargos do nível Regional e dos delegados representantes da Região Escoteira à Assembleia Nacional\, e assuntos gerais de interesse dos associados.  \nO Fórum Regional de Jovens Líderes é a maior instância deliberativa da Rede de Jovens Líderes – SP. Em suas sessões ordinárias acontece a apresentação do relatório do Núcleo Regional de Jovens Líderes; a apreciação e deliberação de propostas de Grupos de Trabalho; a eleição dos cargos eletivos do Núcleo Regional de Jovens Líderes\, a eleição de delegados da Rede de Jovens Líderes – SP ao Fórum Nacional de Jovens Líderes e assuntos gerais de interesse dos associados entre 18 e 26 anos de idade incompletos. \nQuando?\n18 e 19 de março de 2023 (sábado e domingo). \nOnde?\nUNISAL – Centro Universitário Salesiano de São Paulo (Campus Americana)\nAvenida de Cillo\, 3.500 – Parque Universitário – Americana – São Paulo.\nConheça um pouco mais sobre o local do evento no link. \nQuem pode participar?\nMembros juvenis\, Escotistas e Dirigentes\, com Registro Escoteiro válido. \nComo se inscrever?\nExclusivamente via Meu PAXTU\, na área de Eventos\, das 0h do dia 15 de fevereiro de 2023 até às 23h59 do dia 10 de março de 2023.  \nA inscrição via Meu PAXTU é obrigatória apenas para quem deseja obter o certificado de participação que será confirmada através da assinatura na lista de presença. A participação na Assembleia Regional e no Fórum Regional de Jovens Líderes é livre para qualquer associado da Região Escoteira de São Paulo\, com registro escoteiro válido e devidamente autorizado pelo seu responsável legal (no caso de menor de idade) e pela Diretoria de sua Unidade Escoteira Local\, mesmo que não tenha se inscrito previamente via Meu PAXTU. \nObservação: Todos os participantes do evento deverão estar devidamente uniformizados ou utilizando o vestuário escoteiro\, conforme o modelo adotado pela UEL \nArquivos Importantes \nBoletim 1 \nBoletim 2 \nEdital de convocação para a 30ª Reunião Ordinária da ARE (CNPJ33) \nEdital de convocação para a 30ª Reunião Ordinária da ARE (CNPJ11) \nErrata de Edital Reunião Ordinária – CNPJ33 \nErrata de Edital Reunião Ordinária – CNJP11 \nEdital de Convocação para o 21º Fórum Regional de Jovens Líderes \nConsulta à Regularidade do Empregador CNPJ 11 \nCertidões de protesto CNPJ 11 \nCertidão Negativa Conjunta – Tributos Imobiliários CNPJ 11 \nCertidão Negativa Dívida Ativa – Tributos Federais CNPJ 11 \nConsulta à Regularidade do Empregador CNPJ 33 \nCertidões de protesto CNPJ 33 \nCertidão Negativa Conjunta – Tributos Imobiliário CNPJ 33 \nCertidão Negativa Dívida Ativa – Tributos Federais CNPJ 33 \nDemonstração do Resultado do Exercício 2022 – DRE \nDemonstrativo Financeiro 2022 \nBalanço Consolidado 2022 \nERRATA – Balanço Consolidado e DRE 2022 \nPrevisão Orçamentária 2023-2024 \nErrata Previsão Orçamentária 2023-2024 \nLista Delegados – ARE 2023 \nTransunto Delegados \nPasso a Passo Credenciamento \nNotas Explicativas \nCarta de Responsabilidade  \nParecer Comissão Fiscal: Final-2022 \n  \n30ª Assembleia Regional Escoteira e 21º Fórum Regional de Jovens Líderes
URL:https://www.escoteirossp.org.br/evento/30a-assembleia-regional-escoteira-e-21o-forum-regional-de-jovens-lideres/
LOCATION:UNISAL – Centro Universitário Salesiano de São Paulo (Campus Americana)\, Avenida de Cillo\, 3.500\, Americana\, São Paulo\, 13467600\, Brasil
CATEGORIES:Assembleia
ATTACH;FMTTYPE=image/jpeg:https://www.escoteirossp.org.br/wp/wp-content/uploads/2023/02/cre-sjc2022-francisco-155-1-scaled.jpg
ORGANIZER;CN="Diretoria Regional":MAILTO:eventos.sp@escoteiros.org.br
END:VEVENT
END:VCALENDAR