BEGIN:VCALENDAR
VERSION:2.0
PRODID:-//Escoteiros SP - ECPv6.15.20//NONSGML v1.0//EN
CALSCALE:GREGORIAN
METHOD:PUBLISH
X-WR-CALNAME:Escoteiros SP
X-ORIGINAL-URL:https://www.escoteirossp.org.br
X-WR-CALDESC:Eventos para Escoteiros SP
REFRESH-INTERVAL;VALUE=DURATION:PT1H
X-Robots-Tag:noindex
X-PUBLISHED-TTL:PT1H
BEGIN:VTIMEZONE
TZID:America/Sao_Paulo
BEGIN:STANDARD
TZOFFSETFROM:-0300
TZOFFSETTO:-0300
TZNAME:-03
DTSTART:20230101T000000
END:STANDARD
END:VTIMEZONE
BEGIN:VEVENT
DTSTART;VALUE=DATE:20240530
DTEND;VALUE=DATE:20240603
DTSTAMP:20260423T172149
CREATED:20231214T125909Z
LAST-MODIFIED:20240524T143545Z
UID:43279-1717027200-1717372799@www.escoteirossp.org.br
SUMMARY:3º Jangalcamp - 2024
DESCRIPTION:Lobo\, Lobo\, Lobo!!!\nJangalcamp é o único evento do Ramo Lobinho que reúne crianças paulistas e de outras regiões num grande encontro presencial. É uma excelente oportunidade para fomentar a fraternidade escoteira\, assim como ocorre com os outros ramos nos Jamborees. \nEu vou para o Jangalcamp\, e vocês?\nÉ o 3° Jangalcamp chegando com força total pra gente brincar e conhecer muitas coisas interessantes. Vamos mergulhar em divertidas aventuras do mundo das Histórias em Quadrinhos.\nPreparem suas mochilas e se inscrevam no Jangalcamp. Vamos fazer a melhor caçada de todos os tempos e viver momentos inesquecíveis! \nQuando\nA ser realizado entre os dias 30/05/2024 e 02/06/2024 \nOnde\nEstância Arujabel – Rua Esmeria Maria Rodrigues\, S/N\, Arujá – SP \nComo se inscrever\nExclusivamente via MEU PAXTU\, área de Eventos\, das 0h de 15 de dezembro de 2023 até às 23h59 de 30 de abril de 2024\, ou até serem completadas todas as vagas. \nConfira todas as informações:\nBoletim 1 \nBoletim 2 \nBoletim 3 \nBoletim 4 \n  \n3º Jangalcamp – 2024
URL:https://www.escoteirossp.org.br/evento/3o-jangalcamp-2024/
LOCATION:Estância Arujabel\, Rua Esmeria Maria Rodrigues\, Arujá\, São Paulo\, Brasil
CATEGORIES:Acampamento
ATTACH;FMTTYPE=image/png:https://www.escoteirossp.org.br/wp/wp-content/uploads/2023/12/bannereventosite2.png
END:VEVENT
END:VCALENDAR