BEGIN:VCALENDAR
VERSION:2.0
PRODID:-//Escoteiros SP - ECPv6.15.20//NONSGML v1.0//EN
CALSCALE:GREGORIAN
METHOD:PUBLISH
X-WR-CALNAME:Escoteiros SP
X-ORIGINAL-URL:https://www.escoteirossp.org.br
X-WR-CALDESC:Eventos para Escoteiros SP
REFRESH-INTERVAL;VALUE=DURATION:PT1H
X-Robots-Tag:noindex
X-PUBLISHED-TTL:PT1H
BEGIN:VTIMEZONE
TZID:America/Sao_Paulo
BEGIN:STANDARD
TZOFFSETFROM:-0300
TZOFFSETTO:-0300
TZNAME:-03
DTSTART:20230101T000000
END:STANDARD
END:VTIMEZONE
BEGIN:VEVENT
DTSTART;TZID=America/Sao_Paulo:20240519T080000
DTEND;TZID=America/Sao_Paulo:20240519T160000
DTSTAMP:20260423T180542
CREATED:20240507T183449Z
LAST-MODIFIED:20240507T183449Z
UID:44608-1716105600-1716134400@www.escoteirossp.org.br
SUMMARY:4º Encontro Regional de Radioescotismo
DESCRIPTION:O Encontro Regional de Radioescotismo visa atender ao calendário de atividades 2024 onde iniciamos alinhando as atividades bem como os radioamadores jovens e adultos voluntários. O encontro não será apenas um bate papo\, mas sim um núcleo de trocas de informações e de novas ideias para as futuras atividades de radioescotismo. Além de fomentar a liderança dos jovens frente ao rádio\, vamos também viabilizar a nossa sala de rádio no Centro Escoteiro Jaraguá\, fortalecendo cada vez mais a nossa Região Escoteira. \nQuando \n19 de maio de 2024 (domingo)\nAbertura prevista às 9h e encerramento prevista às 16h\nCheck-in das 8h às 9h \nO check-in será feito por participante\, onde deverá ser entregue autorização assinada pelo responsável legal e pelo membro da Diretoria da Unidade Escoteira Local\, além da Ficha Médica devidamente atualizada. A não apresentação destes documentos acarretará a impossibilidade de participação no evento. \nQuem pode participar \n• Escoteiros a partir de 11 anos até 14 anos de idade\, com registro escoteiro válido.\n• Seniores e Guias a partir de 15 anos até 17 anos de idade\, com registro escoteiro válido.\n• Pioneiros a partir de 18 anos até 20 anos de idade\, com registro escoteiro válido.\n• Escotistas – a partir de 18 anos de idade\, com registro de escoteiro válido. \nTodos os jovens deverão estar acompanhados com o escotista responsável.\nTodos os participantes do evento deverão estar devidamente uniformizados ou utilizando o vestuário escoteiro\, conforme o modelo adotado pela UEL. \nConfira o boletim \n  \n4º Encontro Regional de Radioescotismo
URL:https://www.escoteirossp.org.br/evento/4o-encontro-regional-de-radioescotismo/
LOCATION:Centro Escoteiro Jaraguá (CEJ)\, R. Adriano Reys\, 1\, Vila Jaraguá\, São Paulo\, São Paulo\, Brasil
CATEGORIES:Encontro,Radioescotismo
ATTACH;FMTTYPE=image/png:https://www.escoteirossp.org.br/wp/wp-content/uploads/2024/05/bannersite_radio.png
ORGANIZER;CN="Coordena%C3%A7%C3%A3o Regional de Radioescotismo":MAILTO:radioescotismo.sp@escoteiros.org.br
END:VEVENT
END:VCALENDAR