BEGIN:VCALENDAR
VERSION:2.0
PRODID:-//Escoteiros SP - ECPv6.15.20//NONSGML v1.0//EN
CALSCALE:GREGORIAN
METHOD:PUBLISH
X-WR-CALNAME:Escoteiros SP
X-ORIGINAL-URL:https://www.escoteirossp.org.br
X-WR-CALDESC:Eventos para Escoteiros SP
REFRESH-INTERVAL;VALUE=DURATION:PT1H
X-Robots-Tag:noindex
X-PUBLISHED-TTL:PT1H
BEGIN:VTIMEZONE
TZID:America/Sao_Paulo
BEGIN:STANDARD
TZOFFSETFROM:-0300
TZOFFSETTO:-0300
TZNAME:-03
DTSTART:20220101T000000
END:STANDARD
END:VTIMEZONE
BEGIN:VEVENT
DTSTART;TZID=America/Sao_Paulo:20231111T100000
DTEND;TZID=America/Sao_Paulo:20231112T153000
DTSTAMP:20260423T200808
CREATED:20231009T204053Z
LAST-MODIFIED:20231009T204321Z
UID:42684-1699696800-1699803000@www.escoteirossp.org.br
SUMMARY:9º Encontro Regional de Jovens Líderes
DESCRIPTION:Está na hora de dar um salto na energia e na animação! Prepare-se para o evento mais esperado do ano: o Encontro Regional de Jovens Líderes\, mais carinhosamente apelidado de ENCONTRINHO! Após um longo período de afastamento que todos conhecemos e vivemos\, o núcleo regional de São Paulo está pronto para se reunir novamente e reviver a verdadeira essência do Escotismo com todos vocês. Chegou a hora de vibrar\, se inspirar e criar memórias incríveis juntos! \nEntão\, coloque sua energia em alta voltagem\, traga sua vontade de fazer a diferença e junte-se a nós nessa jornada cheia de entusiasmo e otimismo. O futuro está em nossas mãos\, e o encontrinho está chamando por você em Campinas/SP\, vamos proporcionar uma experiência única e empolgante. \nQuando:\nSábado e domingo\, 11 e 12 de novembro de 2023. \nOnde:\nEscola Estadual Miguel Vicente Cury | Endereço: Rua São Cirílo 354 Vl – Conj. Hab. Padre\nAnchieta\, Campinas – SP\, 13068-413 | https://goo.gl/maps/ETCwxs38Mj2cJfHn8 \nComo se inscrever:\nExclusivamente via Meu PAXTU\, na área de Eventos\, das 0h do dia 09 de outubro de 2023 até\nàs 23h59 do dia 1 de novembro de 2023\, ou até serem contempladas todas as vagas. \nQuanto:\nR$ 40\,00 (quarenta reais) \n  \nConfira todas as informações: \nBoletim \n9º Encontro Regional de Jovens Líderes
URL:https://www.escoteirossp.org.br/evento/9o-encontro-regional-de-jovens-lideres/
LOCATION:Escola Estadual Miguel Vicente Cury\, Rua São Cirílo 354 Vl - Conj. Hab. Padre Anchieta\, Campinas\, São Paulo\, 13068-413\, Brasil
CATEGORIES:Encontro
ATTACH;FMTTYPE=image/png:https://www.escoteirossp.org.br/wp/wp-content/uploads/2023/10/Design-sem-nome-1.png
ORGANIZER;CN="N%C3%BAcleo Regional de Jovens L%C3%ADderes":MAILTO:jovens.lideres@escoteirossp.org.br
END:VEVENT
END:VCALENDAR