BEGIN:VCALENDAR
VERSION:2.0
PRODID:-//Escoteiros SP - ECPv6.15.20//NONSGML v1.0//EN
CALSCALE:GREGORIAN
METHOD:PUBLISH
X-WR-CALNAME:Escoteiros SP
X-ORIGINAL-URL:https://www.escoteirossp.org.br
X-WR-CALDESC:Eventos para Escoteiros SP
REFRESH-INTERVAL;VALUE=DURATION:PT1H
X-Robots-Tag:noindex
X-PUBLISHED-TTL:PT1H
BEGIN:VTIMEZONE
TZID:America/Sao_Paulo
BEGIN:STANDARD
TZOFFSETFROM:-0300
TZOFFSETTO:-0300
TZNAME:-03
DTSTART:20230101T000000
END:STANDARD
END:VTIMEZONE
BEGIN:VEVENT
DTSTART;VALUE=DATE:20240316
DTEND;VALUE=DATE:20240531
DTSTAMP:20260423T194447
CREATED:20240207T143408Z
LAST-MODIFIED:20240314T160709Z
UID:43837-1710547200-1717113599@www.escoteirossp.org.br
SUMMARY:9º Mutirão Regional Escotismo para Todos – MUTEPT 2024
DESCRIPTION:O Mutirão Escotismo Para Todos sempre foi uma ferramenta para promover debates sobre a inclusão e a diversidade dentro do Movimento Escoteiro. Em nossa nona edição\, lançamos o tema “Infinitas Possibilidades”\, com o enfoque em toda a capacidade da mente humana\, celebrando as pessoas neurodiversas. \nA neurodiversidade refere-se à variedade natural de funcionamento do cérebro em seres humanos. Reconhecemos que cada pessoa tem uma maneira única de processar informações\, interagir com o mundo e aprender. Ao focar nesse tema\, buscamos criar um espaço seguro que acolha e valorize as diferenças\, proporcionando a todos os participantes a oportunidade de explorar suas infinitas possibilidades. \nTomando como base o conceito de que no Movimento Escoteiro nos colocamos em um espaço de convivência com pessoas diferentes personalidades\, mas com o mesmo ideal\, o 9o MutEPT traz à tona atividades que nos ajudem a entender melhor o processo cognitivo das pessoas as quais nos relacionamos dentro da seção\, da unidade escoteira local e na sociedade como um todo. \nConvidamos todas as UELs a participarem ativamente do MutEPT 2024. Juntos\, podemos criar um movimento escoteiro mais inclusivo\, sensível e preparado para acolher as inúmeras oportunidades que a diversidade nos oferece. Acreditamos que\, ao abraçar a neurodiversidade\, estamos construindo um mundo melhor e um espaço de acolhimento para que as pessoas possam livremente serem quem são. \nCom isso\, desejamos a todos um excelente MutEPT e os convidamos para que façam o registro fotográfico ou em vídeo das atividades e postem nas redes sociais com as hashtags #MUTEPT2024\, #EscoteirosSP e #InfinitasPossibilidades. \nQuando\n16 de março de 2024 a 30 de maio de 2024.\nLive: “Pensamento Infinito” 13 de março de 2024 às 19h30. \nO caderno de atividades estará disponível a partir de 13 de março de 2024. \nConfira todas as informações:\nBoletim \nCaderno de Atividades \n9º Mutirão Regional Escotismo para Todos – MUTEPT 2024
URL:https://www.escoteirossp.org.br/evento/9o-mutirao-regional-escotismo-para-todos-mutept-2024/
CATEGORIES:Descentralizado
ATTACH;FMTTYPE=image/png:https://www.escoteirossp.org.br/wp/wp-content/uploads/2024/02/bannereventositemutept.png
END:VEVENT
END:VCALENDAR