BEGIN:VCALENDAR
VERSION:2.0
PRODID:-//Escoteiros SP - ECPv6.15.20//NONSGML v1.0//EN
CALSCALE:GREGORIAN
METHOD:PUBLISH
X-WR-CALNAME:Escoteiros SP
X-ORIGINAL-URL:https://www.escoteirossp.org.br
X-WR-CALDESC:Eventos para Escoteiros SP
REFRESH-INTERVAL;VALUE=DURATION:PT1H
X-Robots-Tag:noindex
X-PUBLISHED-TTL:PT1H
BEGIN:VTIMEZONE
TZID:America/Sao_Paulo
BEGIN:STANDARD
TZOFFSETFROM:-0300
TZOFFSETTO:-0300
TZNAME:-03
DTSTART:20200101T000000
END:STANDARD
END:VTIMEZONE
BEGIN:VEVENT
DTSTART;TZID=America/Sao_Paulo:20210703T150000
DTEND;TZID=America/Sao_Paulo:20210703T180000
DTSTAMP:20260423T145414
CREATED:20210618T170028Z
LAST-MODIFIED:20210618T170028Z
UID:35734-1625324400-1625335200@www.escoteirossp.org.br
SUMMARY:Amizade sem Fronteira
DESCRIPTION:O Ramo Lobinho SP\, juntamente com os coordenadores distritais\, elaborou uma atividade \, simples divertida e rápida\, para compartilhar um momento de alegria e diversão com todos os lobinhos e escotistas. Amizade sem Fronteiras vem encerrar um semestre unindo a todos virtualmente. \nDia 03/07 no Youtube da Região Escoteirossp \n  \nQuando?\nNo dia 03 de julho\, às 15h. \nOnde?\nNo nosso canal do YouTube: Escoteirossp \nMateriais\n\n4 fitas (papel crepom\, folha de seda ou cetim. 1 dedo de espessura)\n1 folha (sulfite\, jornal ou revista)\n1 metro de barbante\nfita colante (fita crepe\, durex)\n\nAmizade sem Fronteira
URL:https://www.escoteirossp.org.br/evento/amizade-sem-fronteira/
LOCATION:Online
CATEGORIES:Online
ATTACH;FMTTYPE=image/png:https://www.escoteirossp.org.br/wp/wp-content/uploads/2021/06/amizade-sem-fronteira-e1624033600359.png
END:VEVENT
END:VCALENDAR