BEGIN:VCALENDAR
VERSION:2.0
PRODID:-//Escoteiros SP - ECPv6.15.20//NONSGML v1.0//EN
CALSCALE:GREGORIAN
METHOD:PUBLISH
X-WR-CALNAME:Escoteiros SP
X-ORIGINAL-URL:https://www.escoteirossp.org.br
X-WR-CALDESC:Eventos para Escoteiros SP
REFRESH-INTERVAL;VALUE=DURATION:PT1H
X-Robots-Tag:noindex
X-PUBLISHED-TTL:PT1H
BEGIN:VTIMEZONE
TZID:America/Sao_Paulo
BEGIN:STANDARD
TZOFFSETFROM:-0200
TZOFFSETTO:-0300
TZNAME:-03
DTSTART:20190217T020000
END:STANDARD
END:VTIMEZONE
BEGIN:VEVENT
DTSTART;VALUE=DATE:20200314
DTEND;VALUE=DATE:20200316
DTSTAMP:20260424T020413
CREATED:20200511T183515Z
LAST-MODIFIED:20200511T183515Z
UID:26736-1584144000-1584316799@www.escoteirossp.org.br
SUMMARY:Assembleia Regional e Fórum Regional de Jovens Líderes 2020
DESCRIPTION:O que é o evento? \nA Assembleia Regional é o órgão máximo\, representativo e normativo da Região Escoteira de São Paulo. Em suas reuniões ordinárias ocorrem a prestação de contas do nível Regional do exercício anterior\, ante parecer da Comissão Fiscal Regional e a deliberação do orçamento para o próximo exercício; a apresentação do relatório de atividades da Diretoria Regional; a apresentação de recomendações do Fórum Regional de Jovens Líderes; os processos eleitorais para cargos do nível Regional e dos delegados representantes da Região Escoteira à Assembleia Nacional\, e assuntos gerais de interesse dos associados.  \nO Fórum Regional de Jovens Líderes é a maior instância deliberativa da Rede de Jovens Líderes – SP. Em suas sessões ordinárias acontece a apresentação do relatório do Núcleo Regional de Jovens Líderes; a apreciação e deliberação de propostas de Grupos de Trabalho; a eleição dos cargos eletivos do Núcleo Regional de Jovens Líderes\, a eleição de delegados da Rede de Jovens Líderes – SP ao Fórum Nacional de Jovens Líderes e assuntos gerais de interesse dos associados entre 18 e 26 anos de idade incompletos. \nO porquê do evento?  \nAtende ao previsto no art. 12. do Estatuto Regional\, nos arts. 25 e 42 dos Parâmetros da Rede de Jovens Líderes – SP e os objetivos do Plano Estratégico 2.2.5 e 2.3.1. \nQuando? \n14 e 15 de março de 2020 (sábado e domingo) \nHorários de credenciamento \nCredenciamento para o Fórum Regional de Jovens Líderes previsto das 7h30 às 8h e das 18h30 às 19h do dia 14 de março de 2020 (sábado)  \nCredenciamento para a Assembleia Regional previsto das 7h às 17h do dia 14 de março de 2020 (sábado) e das 7h às 9h do dia 15 de março de 2020 (domingo)  \nHorários das Sessões Plenárias \nFórum Regional de Jovens Líderes: 1ª Sessão Plenária prevista das 8h às 11h e 2ª Sessão Plenária prevista das 19h às 22h de 14 de março de 2020 (sábado)  \nSessão Solene de Abertura da Reunião Ordinária da Assembleia Regional com início previsto às 11h do dia 14 de março de 2020 (sábado)  \n1ª Sessão Plenária da Reunião Ordinária da Assembleia Regional com início previsto às 13h30 (primeira convocação) e às 14h (segunda convocação) do dia 14 de março de 2020 (sábado)  \n2ª Sessão Plenária da Reunião Ordinária da Assembleia Regional com início previsto às 08h (primeira convocação) e às 08h30 (segunda convocação) de 15 de março de 2020 (domingo)  \nHorário dos Seminários prévios \nSeminário prévio sobre a proposta do novo Estatuto Nacional dos Escoteiros do Brasil previsto das 8h às 9h do dia 14 de março de 2020 (sábado)  \nSeminário prévio sobre a Previsão Orçamentária Regional previsto das 9h às 10h do dia 14 de março de 2020 (sábado)  \nOnde? \nSessões Plenárias da Assembleia Regional e Seminários Prévios \nCentro Integrado de Apoio à Educação de Indaiatuba – CIAEI  \nAv. Eng. Fábio Roberto Barnabé\, 3665\, Jardim Regina\, Indaiatuba/SP\, CEP 13331-630 \nConheça um pouco mais sobre o local do evento em: https://www.indaiatuba.sp.gov.br/educacao/planejamento-e-administracao/ciaei/  \nSessões Plenárias do Fórum Regional de Jovens Líderes \nAuditório da Prefeitura Municipal de Indaiatuba \nAv. Eng. Fábio Roberto Barnabé\, 2800\, Jardim Esplanada\, Indaiatuba/SP\, CEP 13331-630 \nConheça um pouco mais sobre o local do evento em: https://www.indaiatuba.sp.gov.br/  \nQuem pode participar? \nMembros juvenis\, Escotistas e Dirigentes\, com registro escoteiro válido. \nComo se inscrever? \nExclusivamente via Meu PAXTU\, na área de Eventos\, das 0h do dia 17 de dezembro de 2019 até às 23h59 do dia 29 de fevereiro de 2020.  \nA inscrição via Meu PAXTU é obrigatória apenas para quem deseja obter o certificado de participação. A participação na Assembleia Regional e no Fórum Regional de Jovens Líderes é livre para qualquer associado da Região Escoteira de São Paulo\, com registro escoteiro válido e devidamente autorizado pelo seu responsável legal (no caso de menor de idade) e pela Diretoria de sua Unidade Escoteira Local\, mesmo que não tenha se inscrito previamente via Meu PAXTU. \nObservação: Todos os participantes do evento deverão estar devidamente uniformizados ou utilizando o vestuário escoteiro\, conforme o modelo adotado pela UEL. \nQuanto? \nNão há taxa de inscrição para participação\, pois a realização do evento é subsidiada pelo orçamento regional.  \nInformações Importantes\nBoletim 1  \nEdital de convocação da XXVII Reunião Ordinária da Assembleia Regional \nEdital de convocação do XVIII Fórum Regional de Jovens Líderes \nComercialização de produtos/serviços – Assembleia Regional e Fórum Regional de Jovens Líderes 2020 \nProgramação prevista – Assembleia Regional e Fórum de Jovens Líderes 2020 \nAssembleia Regional e Fórum Regional de Jovens Líderes 2020
URL:https://www.escoteirossp.org.br/evento/assembleia-regional-e-forum-regional-de-jovens-lideres-2020/
LOCATION:Centro Integrado de Apoio à Educação de Indaiatuba – CIAEI\, Av. Eng. Fábio Roberto Barnabé\, 2800\, Indaiatuba\, São Paulo\, 13331-630\, Brasil
CATEGORIES:Assembleia,Fórum
ATTACH;FMTTYPE=image/jpeg:https://www.escoteirossp.org.br/wp/wp-content/uploads/2020/05/thumb-6.jpg
END:VEVENT
END:VCALENDAR