BEGIN:VCALENDAR
VERSION:2.0
PRODID:-//Escoteiros SP - ECPv6.15.20//NONSGML v1.0//EN
CALSCALE:GREGORIAN
METHOD:PUBLISH
X-WR-CALNAME:Escoteiros SP
X-ORIGINAL-URL:https://www.escoteirossp.org.br
X-WR-CALDESC:Eventos para Escoteiros SP
REFRESH-INTERVAL;VALUE=DURATION:PT1H
X-Robots-Tag:noindex
X-PUBLISHED-TTL:PT1H
BEGIN:VTIMEZONE
TZID:America/Sao_Paulo
BEGIN:STANDARD
TZOFFSETFROM:-0300
TZOFFSETTO:-0300
TZNAME:-03
DTSTART:20200101T000000
END:STANDARD
END:VTIMEZONE
BEGIN:VEVENT
DTSTART;VALUE=DATE:20210327
DTEND;VALUE=DATE:20210328
DTSTAMP:20260423T160204
CREATED:20210226T172845Z
LAST-MODIFIED:20210312T174447Z
UID:34208-1616803200-1616889599@www.escoteirossp.org.br
SUMMARY:Assembleia Regional e Fórum Regional de Jovens Líderes 2021
DESCRIPTION:O que é o evento? \nA Assembleia Regional é o órgão máximo\, representativo e normativo da Região Escoteira de São Paulo. Em suas reuniões ordinárias ocorrem a prestação de contas do nível Regional do exercício anterior\, ante parecer da Comissão Fiscal Regional e a deliberação do orçamento para o próximo exercício; a apresentação do relatório de atividades da Diretoria Regional; a apresentação de recomendações do Fórum Regional de Jovens Líderes; os processos eleitorais para cargos do nível Regional e dos delegados representantes da Região Escoteira à Assembleia Nacional\, e assuntos gerais de interesse dos associados.  \nO Fórum Regional de Jovens Líderes é a maior instância deliberativa da Rede de Jovens Líderes – SP. Em suas sessões ordinárias acontece a apresentação do relatório do Núcleo Regional de Jovens Líderes; a apreciação e deliberação de propostas de Grupos de Trabalho; a eleição dos cargos eletivos do Núcleo Regional de Jovens Líderes\, a eleição de delegados da Rede de Jovens Líderes – SP ao Fórum Nacional de Jovens Líderes e assuntos gerais de interesse dos associados entre 18 e 26 anos de idade incompletos. \nO porquê do evento?  \nAtende ao previsto no art. 12. do Estatuto Regional\, nos arts. 25 e 42 dos Parâmetros da Rede de Jovens Líderes – SP e os objetivos do Plano Estratégico 2.2.5 e 2.3.1. \nQuando? \n27 de março de 2021 \nOnde? \nOnline \nQuem pode participar? \nMembros juvenis\, Escotistas e Dirigentes\, com registro escoteiro válido. \nDocumentos Importantes\nBoletim \nEdital de convocação da XXVIII Reunião Ordinário da Assembleia Regional \nEdital de convocação do XIX Fórum Regional de Jovens Líderes \nERRATA: Edital de convocação do XIX Fórum Regional de Jovens Líderes \nTabela de Delegados ARE 2021 \n  \nAssembleia Regional e Fórum Regional de Jovens Líderes 2021
URL:https://www.escoteirossp.org.br/evento/assembleia-regional-e-forum-regional-de-jovens-lideres-2021/
LOCATION:Online
CATEGORIES:Assembleia
ATTACH;FMTTYPE=image/png:https://www.escoteirossp.org.br/wp/wp-content/uploads/2021/02/thumbassembleia-1.png
ORGANIZER;CN="N%C3%BAcleo Regional de Jovens L%C3%ADderes":MAILTO:jovens.lideres@escoteirossp.org.br
END:VEVENT
END:VCALENDAR