BEGIN:VCALENDAR
VERSION:2.0
PRODID:-//Escoteiros SP - ECPv6.15.20//NONSGML v1.0//EN
CALSCALE:GREGORIAN
METHOD:PUBLISH
X-WR-CALNAME:Escoteiros SP
X-ORIGINAL-URL:https://www.escoteirossp.org.br
X-WR-CALDESC:Eventos para Escoteiros SP
REFRESH-INTERVAL;VALUE=DURATION:PT1H
X-Robots-Tag:noindex
X-PUBLISHED-TTL:PT1H
BEGIN:VTIMEZONE
TZID:America/Sao_Paulo
BEGIN:STANDARD
TZOFFSETFROM:-0200
TZOFFSETTO:-0300
TZNAME:-03
DTSTART:20190217T020000
END:STANDARD
END:VTIMEZONE
BEGIN:VEVENT
DTSTART;TZID=America/Sao_Paulo:20200215T083000
DTEND;TZID=America/Sao_Paulo:20200215T173000
DTSTAMP:20260424T100308
CREATED:20200511T182551Z
LAST-MODIFIED:20200511T183013Z
UID:26728-1581755400-1581787800@www.escoteirossp.org.br
SUMMARY:Assembleia Regional Pioneira 2020
DESCRIPTION:? O que é o evento? \nA Assembleia Regional Pioneira (ARPi) é realizada\, ordinariamente\, uma vez por ano\, a fim de apresentar\, debater e resolver assuntos referentes ao Ramo Pioneiro na Região Escoteira de São Paulo. \nEm 2019 a Comissão Regional Pioneira (CP) abriu candidaturas para Clãs interessados em sediar a ARPi 2020 e o Clã Pioneiro Nirvana do Grupo Escoteiro Macuxi 94/SP foi escolhido para sediar o evento\, devido à sua proposta atender melhor aos critérios previamente determinados\, tais como infraestrutura e localização. \n? O porquê do evento?   \nAtende o previsto no objetivo do Plano Estratégico 2.2.5 e art. 1º Regulamento da ARPi e as ODS 5\, 16 e 17.  \n? Quando? \n15 de fevereiro de 2020 (sábado) \nAbertura às 08h30 e encerramento previsto às 17h30  \nCheck-in das 07h às 08h30 de 15 de fevereiro de 2020 (sábado).  \n? Onde? \nInstituto Federal – Campus São Paulo (IFSP)  \nPortaria A: Rua Pedro Vicente\, 625\, Canindé\, São Paulo/SP\, CEP 01109-010 (próximo ao Terminal Rodoviário e Metrô Portuguesa-Tietê) \nConheça um pouco mais sobre o local do evento em:  https://www.ifsp.edu.br/  \n? Quem pode participar? \nPioneiros (as) a partir de 17 anos de idade até 21 anos incompletos\, com registro escoteiro válido. \nSeniores/guias em transição\, a partir de 17 anos de idade\, com registro escoteiro válido. \nEscotistas a partir de 21 anos de idade\, com registro escoteiro válido. A participação de escotistas se dará conforme o disposto no §3º do art. 6º do Regulamento da ARPi vigente. \n? Como se inscrever? \nExclusivamente via Meu PAXTU\, na área de Eventos\, das 0h do dia 9 de dezembro de 2019 até às 23h59 do dia 22 de janeiro de 2020\, ou até serem completadas todas as vagas. \nObservação: Todos os participantes do evento deverão estar devidamente uniformizados ou utilizando o vestuário escoteiro\, conforme o modelo adotado pela UEL\, e entregar no check-in autorização pela Diretoria da Unidade Escoteira Local e responsável legal (no caso de menores de idade)\, bem como ficha médica atualizada\, sob pena de não participação no evento. \n? Limite de vagas \n250 (duzentas e cinquenta) para Pioneiros (as) e Seniores/Guias em transição. \n50 (cinquenta) para Escotistas. \n? Quanto? \nPioneiros (as)\, Seniores/Guias em transição e Escotistas: R$ 35\,00 (trinta e cinco reais)\, em parcela única. \nPioneiros (as)\, Seniores/Guias em transição e Escotistas isentos: R$ 8\,75 (oito reais e setenta e cinco centavos)\, em parcela única. \nInclui: participação no evento\, café da manhã e dois coffee-breaks. \n? Programa Previsto (sujeito a alterações sem aviso prévio) \n08h30 às 11h30 – Debates direcionados \n11h30 às 13h – Intervalo para o almoço \n13h às 17h30 – Plenária da ARPi \n? Candidaturas e Assuntos Gerais na ARPi \nConfira as instruções no edital de convocação da ARPi.   \n? Download do boletim \nAssembleia Regional Pioneira 2020
URL:https://www.escoteirossp.org.br/evento/assembleia-regional-pioneira-2020/
LOCATION:Instituto Federal – Campus São Paulo (IFSP)\, Rua Pedro Vicente\, 625\, São Paulo\, São Paulo\, 01109-010\, Brasil
CATEGORIES:Assembleia
ATTACH;FMTTYPE=image/jpeg:https://www.escoteirossp.org.br/wp/wp-content/uploads/2020/05/thumb-4.jpg
ORGANIZER;CN="Comiss%C3%A3o Regional do Ramo Pioneiro":MAILTO:cp.sp@escoteiros.org.br
END:VEVENT
END:VCALENDAR