BEGIN:VCALENDAR
VERSION:2.0
PRODID:-//Escoteiros SP - ECPv6.15.20//NONSGML v1.0//EN
CALSCALE:GREGORIAN
METHOD:PUBLISH
X-WR-CALNAME:Escoteiros SP
X-ORIGINAL-URL:https://www.escoteirossp.org.br
X-WR-CALDESC:Eventos para Escoteiros SP
REFRESH-INTERVAL;VALUE=DURATION:PT1H
X-Robots-Tag:noindex
X-PUBLISHED-TTL:PT1H
BEGIN:VTIMEZONE
TZID:America/Sao_Paulo
BEGIN:STANDARD
TZOFFSETFROM:-0300
TZOFFSETTO:-0300
TZNAME:-03
DTSTART:20200101T000000
END:STANDARD
END:VTIMEZONE
BEGIN:VEVENT
DTSTART;TZID=America/Sao_Paulo:20210227T080000
DTEND;TZID=America/Sao_Paulo:20210227T180000
DTSTAMP:20260423T145534
CREATED:20201214T174035Z
LAST-MODIFIED:20201215T164948Z
UID:32754-1614412800-1614448800@www.escoteirossp.org.br
SUMMARY:Assembleia Regional Pioneira 2021
DESCRIPTION:O que é o evento?\nA Assembleia Regional Pioneira (ARPi) é realizada\, ordinariamente\, uma vez por ano\, a fim de apresentar\,\ndebater e resolver assuntos referentes ao Ramo Pioneiro na Região Escoteira de São Paulo.\nEm 2020 a Comissão Regional Pioneira (CP) abriu candidaturas para Clãs interessados em sediar a ARPi\n2021 e Santos foi eleita a cidade-sede da ARPi 2021\, porém com a pandemia que acometeu nosso país e\nmundo\, o evento acontecerá on-line. \nO por que do evento?\nAtende o previsto no objetivo do Plano Estratégico 2.2.5 e art. 1º Regulamento da ARPi e as ODS 5\, 16 e 17. \nQuando?\n27 de fevereiro de 2021 (sábado)\nAbertura prevista às 08h00 e encerramento previsto às 18h00\nCheck-in virtual: todos os participantes deverão apresentar autorização de atividade (disponível para\ndownload na área de Eventos do Meu Paxtu)\, devidamente preenchida e assinada (digitalmente) pela\nDiretoria da UEL e pelo responsável legal (no caso de menores de idade)\, conforme instruções a serem\nenviadas ao e-mail dos inscritos. \nOnde?\nVirtualmente\, através do aplicativo Google Meet. \nQuem pode participar?\nPioneiros(as) a partir de 17 anos de idade até 21 anos incompletos\, com registro escoteiro válido.\nSêniores/guias em transição\, a partir de 17 anos de idade\, com registro escoteiro válido.\nEscotistas a partir de 21 anos de idade\, com registro escoteiro válido. A participação de escotistas se\ndará conforme o disposto no §3º do art. 6º do Regulamento da ARPi vigente. \nComo se inscrever?\nExclusivamente via Meu PAXTU\, na área de Eventos\, das 0h do dia 13 de dezembro de 2020 até às 23h59 do\ndia 08 de fevereiro de 2021\, ou até serem contempladas todas as vagas. \n  \nBoletim \n  \nAssembleia Regional Pioneira 2021
URL:https://www.escoteirossp.org.br/evento/assembleia-regional-pioneira-2021/
LOCATION:Online
CATEGORIES:Ramo Pioneiro
ATTACH;FMTTYPE=image/jpeg:https://www.escoteirossp.org.br/wp/wp-content/uploads/2020/12/ARPi-e1607967588677.jpeg
ORGANIZER;CN="Coordena%C3%A7%C3%A3o Regional do Ramo Pioneiro":MAILTO:ramopioneiro.sp@escoteiros.org.br
END:VEVENT
END:VCALENDAR