BEGIN:VCALENDAR
VERSION:2.0
PRODID:-//Escoteiros SP - ECPv6.15.20//NONSGML v1.0//EN
CALSCALE:GREGORIAN
METHOD:PUBLISH
X-WR-CALNAME:Escoteiros SP
X-ORIGINAL-URL:https://www.escoteirossp.org.br
X-WR-CALDESC:Eventos para Escoteiros SP
REFRESH-INTERVAL;VALUE=DURATION:PT1H
X-Robots-Tag:noindex
X-PUBLISHED-TTL:PT1H
BEGIN:VTIMEZONE
TZID:America/Sao_Paulo
BEGIN:STANDARD
TZOFFSETFROM:-0300
TZOFFSETTO:-0300
TZNAME:-03
DTSTART:20240101T000000
END:STANDARD
END:VTIMEZONE
BEGIN:VEVENT
DTSTART;TZID=America/Sao_Paulo:20250809T090000
DTEND;TZID=America/Sao_Paulo:20250809T130000
DTSTAMP:20260423T163645
CREATED:20250722T162932Z
LAST-MODIFIED:20250722T162932Z
UID:48077-1754730000-1754744400@www.escoteirossp.org.br
SUMMARY:Café entre Velhos Amigos 2025
DESCRIPTION:O Café com Velhos Amigos é uma interação entre Escotistas e Dirigentes com objetivo de reunir os Velhos Lobos com a visão sobre a sua atuação e para a troca de boas práticas. \nComo o Movimento Escoteiro é fundamentado na vida em equipe\, nas interações e nas relações que são construídas com o meio ambiente\, a natureza e o mundo ao seu redor\, neste evento buscamos proporcionar um momento para fortalecer os laços entre os voluntários mais antigos dos Escoteiros do Brasil – Região São Paulo. \n  \nQuando\nSábado\, 9 de agosto de 2025\, das 9h às 13h. \n  \nOnde\nCentro Escoteiro JaraguáRua Adriano Reys\, 1 – Vila Jaraguá\, São Paulo/SP.Como chegar \n  \nQuem pode participar\nPodem se inscrever todos os associados com data da primeira Promessa anterior a 1995\, desde que o registro seja ininterrupto e conste corretamente no Meu PAXTU. É importante destacar que as informações serão verificadas e que inscrições que não cumprirem este critério serão automaticamente canceladas. \n  \nComo se inscrever\nAs inscrições serão realizadas exclusivamente via Meu PAXTU\, das 0h01 de 23 de julho até 23h59 de 4 de agosto de 2025\, ou até o preenchimento total das vagas. \n  \nConfira todas as informações: \nBoletim \nCafé entre Velhos Amigos 2025
URL:https://www.escoteirossp.org.br/evento/cafe-com-velhos-amigos-2025-encontro-escotistas-veteranos/
LOCATION:Centro Escoteiro Jaraguá (CEJ)\, R. Adriano Reys\, 1\, Vila Jaraguá\, São Paulo\, São Paulo\, Brasil
CATEGORIES:Encontro,Escotista
ATTACH;FMTTYPE=image/png:https://www.escoteirossp.org.br/wp/wp-content/uploads/2025/07/Logo_Distintivo_Cafe_V.A_2023-scaled-e1753201670639.png
ORGANIZER;CN="Diretoria Regional":MAILTO:eventos.sp@escoteiros.org.br
END:VEVENT
END:VCALENDAR