BEGIN:VCALENDAR
VERSION:2.0
PRODID:-//Escoteiros SP - ECPv6.15.20//NONSGML v1.0//EN
CALSCALE:GREGORIAN
METHOD:PUBLISH
X-WR-CALNAME:Escoteiros SP
X-ORIGINAL-URL:https://www.escoteirossp.org.br
X-WR-CALDESC:Eventos para Escoteiros SP
REFRESH-INTERVAL;VALUE=DURATION:PT1H
X-Robots-Tag:noindex
X-PUBLISHED-TTL:PT1H
BEGIN:VTIMEZONE
TZID:America/Sao_Paulo
BEGIN:STANDARD
TZOFFSETFROM:-0300
TZOFFSETTO:-0300
TZNAME:-03
DTSTART:20220101T000000
END:STANDARD
END:VTIMEZONE
BEGIN:VEVENT
DTSTART;TZID=America/Sao_Paulo:20230812T090000
DTEND;TZID=America/Sao_Paulo:20230812T120000
DTSTAMP:20260424T033926
CREATED:20230728T141206Z
LAST-MODIFIED:20230728T141624Z
UID:42137-1691830800-1691841600@www.escoteirossp.org.br
SUMMARY:Café entre Velhos Amigos 2023
DESCRIPTION:O Café com Velhos Amigos é uma interação entre Escotistas e Dirigentes com objetivo de reunir os Velhos Lobos com a visão sobre a sua atuação e troca de boas práticas. Assim\, neste evento buscamos proporcionar um convívio presencial e fortalecer os laços entre os voluntários mais antigos dos Escoteiros do Brasil – Região São Paulo. O Movimento Escoteiro é fundamentado na vida em equipe\, nas interações e nas relações que são construídas com o meio ambiente\, a natureza e o mundo ao seu redor. \nQuando?\nSábado\, 12 de agosto de 2023\nDas 9h às 13h \nOnde?\nCentro Escoteiro Jaraguá\nRua Adriano Reys\, 1 – Vila Jaraguá\, São Paulo/SP \nQuem pode participar?\nTodos os associados que têm data da primeira Promessa antes de 1993 ininterruptos. Lembrando que a inscrição só será validada se essa informação estiver contida no Paxtu; caso contrário\, a inscrição será automaticamente cancelada (todos os inscritos vão passar por esta triagem\, não havendo exceções). \nComo se inscrever?\nExclusivamente via Meu PAXTU\, das 0h01 do dia 27 de julho até às 23h59 do dia 07 de\nagosto de 2023\, ou até serem contempladas todas as vagas. \nConfira todas as informações: \nBoletim \n  \nCafé entre Velhos Amigos 2023
URL:https://www.escoteirossp.org.br/evento/cafe-entre-velhos-amigos-2023/
LOCATION:Centro Escoteiro Jaraguá (CEJ)\, R. Adriano Reys\, 1\, Vila Jaraguá\, São Paulo\, São Paulo\, Brasil
CATEGORIES:Encontro
ATTACH;FMTTYPE=image/png:https://www.escoteirossp.org.br/wp/wp-content/uploads/2023/07/Distintivo_Cafe_V.A_2023.png
END:VEVENT
END:VCALENDAR