BEGIN:VCALENDAR
VERSION:2.0
PRODID:-//Escoteiros SP - ECPv6.15.20//NONSGML v1.0//EN
CALSCALE:GREGORIAN
METHOD:PUBLISH
X-WR-CALNAME:Escoteiros SP
X-ORIGINAL-URL:https://www.escoteirossp.org.br
X-WR-CALDESC:Eventos para Escoteiros SP
REFRESH-INTERVAL;VALUE=DURATION:PT1H
X-Robots-Tag:noindex
X-PUBLISHED-TTL:PT1H
BEGIN:VTIMEZONE
TZID:America/Sao_Paulo
BEGIN:STANDARD
TZOFFSETFROM:-0300
TZOFFSETTO:-0300
TZNAME:-03
DTSTART:20210101T000000
END:STANDARD
END:VTIMEZONE
BEGIN:VEVENT
DTSTART;TZID=America/Sao_Paulo:20220903T080000
DTEND;TZID=America/Sao_Paulo:20220903T120000
DTSTAMP:20260423T202721
CREATED:20220822T203544Z
LAST-MODIFIED:20220830T135738Z
UID:39403-1662192000-1662206400@www.escoteirossp.org.br
SUMMARY:Café entre Velhos Amigos
DESCRIPTION:O Café com Velhos Amigos e uma interação entre escotistas e dirigentes com objetivo de reunir os Velhos Lobos com a visão sobre a sua atuação e troca de boas práticas. Assim\,\nneste evento buscamos proporciona um convívio presencial pós pandemia e fortalecer os laços entre os voluntários mais antigos dos Escoteiros do Brasil – Região São Paulo.\nPara isso\, teremos uma abertura e um dos membros do Conselho Velhos Lobos fara uma conversa temática focada na experiência da pandemia e neste encontro pós pandemia.\nLogo após será oferecido um Brunch\, onde os participantes poderão formar suas rodas de bate papo e assim conduzirem suas conversas e exposição de sua visão\, boas práticas\,\nsugestões\, etc. \nQuando?\n03 de setembro de 2022 (sábado)\nAbertura prevista às 09h00 do dia 03 de setembro (sábado)\nEncerramento previsto para às 12h00 do dia 03 de setembro (sábado)\nCheck-in das 8h00 às 9h00 do dia 03 de setembro (sábado) \nOnde?\nCentro Escoteiro Jaraguá\nR. Adriano Reys\, 1 – Vila Jaraguá\, São Paulo – SP. \nQuem pode participar?\nTodos os membros que são portadores de medalhas de bons serviços a partir dos 30 anos\,\nlembrando que a inscrição só será validada se essa informação estiver contida no Paxtu ( Área\nde Condecorações ) caso contrário será automaticamente cancelada a inscrição ( todos os\ninscritos vão passar por esta triagem\, não havendo exceções ). \nComo se inscrever?\nExclusivamente via Meu PAXTU\, na área de Eventos\, das 0h do dia 23 de agosto até às 23h59\ndo dia 31 de agosto de 2022\, ou até serem contempladas todas as vagas. \nConfira todas as informações no Boletim! \nCafé entre Velhos Amigos
URL:https://www.escoteirossp.org.br/evento/cafe-entre-velhos-amigos/
LOCATION:Centro Escoteiro Jaraguá (CEJ)\, R. Adriano Reys\, 1\, Vila Jaraguá\, São Paulo\, São Paulo\, Brasil
CATEGORIES:Encontro
ATTACH;FMTTYPE=image/png:https://www.escoteirossp.org.br/wp/wp-content/uploads/2022/08/Distintivo_Cafe_V.A2-1.png
END:VEVENT
END:VCALENDAR