BEGIN:VCALENDAR
VERSION:2.0
PRODID:-//Escoteiros SP - ECPv6.15.20//NONSGML v1.0//EN
CALSCALE:GREGORIAN
METHOD:PUBLISH
X-WR-CALNAME:Escoteiros SP
X-ORIGINAL-URL:https://www.escoteirossp.org.br
X-WR-CALDESC:Eventos para Escoteiros SP
REFRESH-INTERVAL;VALUE=DURATION:PT1H
X-Robots-Tag:noindex
X-PUBLISHED-TTL:PT1H
BEGIN:VTIMEZONE
TZID:America/Sao_Paulo
BEGIN:STANDARD
TZOFFSETFROM:-0300
TZOFFSETTO:-0300
TZNAME:-03
DTSTART:20220101T000000
END:STANDARD
END:VTIMEZONE
BEGIN:VEVENT
DTSTART;VALUE=DATE:20230129
DTEND;VALUE=DATE:20230130
DTSTAMP:20260424T042842
CREATED:20230111T213548Z
LAST-MODIFIED:20230410T183627Z
UID:40436-1674950400-1675036799@www.escoteirossp.org.br
SUMMARY:CATAr Adultos
DESCRIPTION:O que é o evento?  \nOs voluntários aprovados no CATAr (Curso de Aperfeiçoamento em Técnicas do Ar) de Adultos\, além de adquirirem um vasto conhecimento aeroespacial\, serão inseridos no apaixonante universo espacial e aeronáutico. Conhecerão desde aeromodelismo até o básico de navegação aérea e mecânica aérea. Depois do CATAr\, olhar para o céu nunca mais será a mesma coisa! \nOnde?  \nEtapas Presenciais: Aeroclube São João da Boa Vista  \nLocalizado na Rodovia SP 344\, São João da Boa Vista / Aguai\, Km 219 \nEtapas On-line: Zoom Meeting e WhatsApp  \nQuando?  \n1ª Etapa (on-line): 29 de janeiro de 2023\, das 8h às 14h; \n2ª Etapa (presencial): 11 e 12 de fevereiro de 2023. \n3ª Etapa (pós-presencial): envio de relatório até 13 de agosto de 2023. \nQuem pode participar?  \nEscotistas e Dirigentes\, de todas as Modalidades\, que:  \n\n Tenham concluído e homologado o Nível Preliminar;\n Estejam com o Registro Associativo Ativo e com suas obrigações administrativas e financeiras em ordem com a Unidade Escoteira Local onde atuam;\n Tenham a recomendação de seus Assessores Pessoais de Formação.\n\nConforme RESOLUÇÃO CAN 05/2021: Altera as Regras 130\, 131 e 132 do P.O.R. (Princípios\, Organização e Regras) https://escoteiros.org.br/wp-content/uploads/2021/06/ResolucaoCAN05_2021.pdf  \nComo se inscrever? \nExclusivamente pelo “Meu PAXTU”\, na área de Eventos\, da 00h do dia 13 de janeiro de 2023 até às 23h59min. do dia 17 de janeiro de 2023 ou até serem contempladas todas as vagas. \nConfira todas as informações:Boletim – CATAr de Adultos_S.JoaodaBoaVista \nCATAr Adultos
URL:https://www.escoteirossp.org.br/evento/catar-adultos/
LOCATION:Aeroclube São João da Boa Vista\, Rodovia SP 344\, São João da Boa Vista\, São Paulo\, Brasil
CATEGORIES:Cursos,EAD
ATTACH;FMTTYPE=image/jpeg:https://www.escoteirossp.org.br/wp/wp-content/uploads/2023/01/DBD77A77-1048-441D-82BF-F40C76CF04D0-Rudner-Lauterjung-Queiroz-scaled-e1673470854453.jpeg
END:VEVENT
END:VCALENDAR