BEGIN:VCALENDAR
VERSION:2.0
PRODID:-//Escoteiros SP - ECPv6.15.20//NONSGML v1.0//EN
CALSCALE:GREGORIAN
METHOD:PUBLISH
X-WR-CALNAME:Escoteiros SP
X-ORIGINAL-URL:https://www.escoteirossp.org.br
X-WR-CALDESC:Eventos para Escoteiros SP
REFRESH-INTERVAL;VALUE=DURATION:PT1H
X-Robots-Tag:noindex
X-PUBLISHED-TTL:PT1H
BEGIN:VTIMEZONE
TZID:America/Sao_Paulo
BEGIN:STANDARD
TZOFFSETFROM:-0300
TZOFFSETTO:-0300
TZNAME:-03
DTSTART:20210101T000000
END:STANDARD
END:VTIMEZONE
BEGIN:VEVENT
DTSTART;TZID=America/Sao_Paulo:20220703T080000
DTEND;TZID=America/Sao_Paulo:20221217T235900
DTSTAMP:20260423T211138
CREATED:20220607T193532Z
LAST-MODIFIED:20220607T193532Z
UID:38543-1656835200-1671321540@www.escoteirossp.org.br
SUMMARY:CATAr de Adultos 2022
DESCRIPTION:O que é o evento?\nOs voluntários aprovados no CATAr (Curso de Aperfeiçoamento em Técnicas do Ar) de Adultos\, além de adquirirem um vasto conhecimento aeroespacial\, serão inseridos no apaixonante universo espacial e aeronáutico.\nConhecerão desde aeromodelismo até o básico de navegação aérea e mecânica aérea.\nDepois do CATAr\, olhar para o céu nunca mais será a mesma coisa! \nO porquê do evento?\nA atividade atende ao previsto nos Objetivos do Plano Estratégico Regional Escoteiro\, item 1.4.4 e aos Indicadores Brasileiros para os Objetivos de Desenvolvimento Sustentável\, item 4. \nComo se Inscrever?\nExclusivamente via Meu PAXTU\, na área de eventos\, das 0h do dia 11 de\njunho até às 23h59 do dia 18 de junho de 2022\, ou até serem contempladas\ntodas as vagas. \nQuando?\n1º Etapa- Online: Dia 3 de julho de 2022 via Zoom Meeting e Whatsapp\nEncontro virtual síncrono obrigatório no domingo\, 03 de julho de 2022\, das\n8h às 14h;\n2ºEtapa- Presencial: Das 09h do dia 16 de julho (sábado) às 17h do dia 17 de\njulho de 2022 (domingo);\n•Check-in da Etapa Presencial: das 08h30 às 09h de 16 de julho de 2022\n(sábado);\n3ª Etapa (pós-presencial): envio de relatório até 17 de dezembro de 2022. \nOnde?\nParque de Material Aeronáutico de São Paulo – PAMA/SP\nAv. Braz Leme\, 3258 – Santana\, São Paulo – SP.\nComo chegar: https://goo.gl/maps/U2YwphvuGSHtzFju8 \nO pernoite será realizado em regime de acantonamento.\nO local do evento possui estacionamento gratuito com capacidade suficiente para quantidade prevista de cursantes \nEtapas On-line: Zoom Meeting e WhatsApp  \nQuem pode participar?\nEscotistas e Dirigentes\, de todas as Modalidades\, que:\n• Tenham concluído e homologado o Nível Preliminar;\n• Estejam com o Registro Associativo Ativo e com suas obrigações administrativas e financeiras em ordem com a Unidade Escoteira Local onde\natuam;\n• Tenham a recomendação de seus Assessores Pessoais de Formação.\nConforme RESOLUÇÃO CAN 05/2021: Altera as Regras 130\, 131 e 132 do\nP.O.R. (Princípios\, Organização e Regras)\nhttps://escoteiros.org.br/wp-content/uploads/2021/06/ResolucaoCAN05_2021.pdf  \nLimite de vagas\n40 (quarenta) vagas:\n36 (trinta e seis) para inscrições gerais\n04 (quatro) exclusivas para o GEAr-sede (Do Ar Senta Pua 335/SP)\nIMPORTANTE: As inscrições estão limitadas a no máximo 04 (quatro) cursantes por Unidade Escoteira Local. \nQuanto?\nR$ 210\,00 (duzentos e dez reais) \nConfira todas as informações no Boletim Completo: \nBoletim  (publicado dia 07/06) \n  \n  \n  \nCATAr de Adultos 2022
URL:https://www.escoteirossp.org.br/evento/catar-de-adultos-2022/
LOCATION:Parque de Material Aeronáutico de São Paulo (PAMA-SP)\, Av. Braz Leme\, 3258\, Santana\, São Paulo\, 02022021
CATEGORIES:Cursos,Modalidade do Ar,Online
ATTACH;FMTTYPE=image/jpeg:https://www.escoteirossp.org.br/wp/wp-content/uploads/2022/06/Logo-catar.jpg
END:VEVENT
END:VCALENDAR