BEGIN:VCALENDAR
VERSION:2.0
PRODID:-//Escoteiros SP - ECPv6.15.20//NONSGML v1.0//EN
CALSCALE:GREGORIAN
METHOD:PUBLISH
X-WR-CALNAME:Escoteiros SP
X-ORIGINAL-URL:https://www.escoteirossp.org.br
X-WR-CALDESC:Eventos para Escoteiros SP
REFRESH-INTERVAL;VALUE=DURATION:PT1H
X-Robots-Tag:noindex
X-PUBLISHED-TTL:PT1H
BEGIN:VTIMEZONE
TZID:America/Sao_Paulo
BEGIN:STANDARD
TZOFFSETFROM:-0300
TZOFFSETTO:-0300
TZNAME:-03
DTSTART:20250101T000000
END:STANDARD
END:VTIMEZONE
BEGIN:VEVENT
DTSTART;VALUE=DATE:20260201
DTEND;VALUE=DATE:20260302
DTSTAMP:20260423T194235
CREATED:20251213T153201Z
LAST-MODIFIED:20251215T203658Z
UID:49757-1769904000-1772409599@www.escoteirossp.org.br
SUMMARY:CATAr de Adultos - Edição Sorocaba
DESCRIPTION:Os voluntários aprovados no CATAr (Curso de Aperfeiçoamento em Técnicas do Ar) de Adultos\, além de adquirirem um vasto conhecimento aeroespacial\, serão inseridos no apaixonante universo espacial e aeronáutico. Conhecerão desde aeromo delismo até o básico de navegação aérea e mecânica aérea. \nDepois do CATAr\, olhar para o céu nunca mais será a mesma coisa! \nQuando\n1ª Etapa (on-line): domingo\, 01 de fevereiro\, das 8h às 15h.\n2ª Etapa (presencial): sábado e domingo\, 28 de fevereiro e 01 de março de 2026.\n3ª Etapa (pós): envio de relatório das atividades aplicadas no grupo até 30 de setembro de 2026. \nOnde\nSede da Alpha Bravo \nConfira todas as informações\nBoletim \nCATAr de Adultos – Edição Sorocaba
URL:https://www.escoteirossp.org.br/evento/catar-de-adultos-edicao-sorocaba/
LOCATION:Sede da Alpha Bravo\, Avenida Santos Dumont\, 1.275 – Hangar 17\, Sorocaba\, São Paulo
ATTACH;FMTTYPE=image/png:https://www.escoteirossp.org.br/wp/wp-content/uploads/2025/12/CATArAdultos_Redes_bannersite.png
ORGANIZER;CN="Coordena%C3%A7%C3%A3o Regional da Modalidade do Ar":MAILTO:modalidadedoar.sp@escoteiros.org.br
END:VEVENT
END:VCALENDAR