BEGIN:VCALENDAR
VERSION:2.0
PRODID:-//Escoteiros SP - ECPv6.15.20//NONSGML v1.0//EN
CALSCALE:GREGORIAN
METHOD:PUBLISH
X-WR-CALNAME:Escoteiros SP
X-ORIGINAL-URL:https://www.escoteirossp.org.br
X-WR-CALDESC:Eventos para Escoteiros SP
REFRESH-INTERVAL;VALUE=DURATION:PT1H
X-Robots-Tag:noindex
X-PUBLISHED-TTL:PT1H
BEGIN:VTIMEZONE
TZID:America/Sao_Paulo
BEGIN:STANDARD
TZOFFSETFROM:-0300
TZOFFSETTO:-0300
TZNAME:-03
DTSTART:20220101T000000
END:STANDARD
END:VTIMEZONE
BEGIN:VEVENT
DTSTART;VALUE=DATE:20230715
DTEND;VALUE=DATE:20230717
DTSTAMP:20260423T224816
CREATED:20230523T142549Z
LAST-MODIFIED:20230523T164805Z
UID:41581-1689379200-1689551999@www.escoteirossp.org.br
SUMMARY:CATAr de Adultos - PAMA
DESCRIPTION:Os voluntários aprovados no CATAr (Curso de Aperfeiçoamento em Técnicas do Ar) de Adultos\, além de adquirirem um vasto conhecimento aeroespacial\, serão inseridos no apaixonante universo espacial e aeronáutico.\nConhecerão desde aeromodelismo até o básico de navegação aérea e mecânica aérea. Depois do CATAr\, olhar para o céu nunca mais será a mesma coisa! \nQuando? \n1º Etapa- Online: Encontro virtual síncrono obrigatório no domingo\, 25 de Junho de 2023\, das 8h às 14h; – via Zoom Meeting e Whatsapp\n2ºEtapa- Presencial: Das 09h do dia 15 de julho (sábado) às 17h do dia 16 de julho de 2023 (domingo)\n•Check-in da Etapa Presencial: das 08h30 às 09h de 15 de julho de 2023 (sábado)\n3ª Etapa (pós-presencial): envio de relatório até 17 de dezembro de 2023. \nOnde?\nParque de Material Aeronáutico de São Paulo – PAMA/SP \nAv. Braz Leme\, 3258 – Santana\, São Paulo – SP. Sede do Grupo Escoteiro do Ar Senta Pua 335/SP\nComo chegar: https://goo.gl/maps/U2YwphvuGSHtzFju8\nEtapas On-line: Zoom Meeting e WhatsApp\n \nQuanto?\nCursantes: R$ 210\,00 (duzentos e dez reais)\, em parcela única por boleto bancário ou parcelado em 2x no cartão de crédito. \nComo se inscrever?\nExclusivamente via Meu PAXTU\, na área de eventos\, das 0h do dia 24 de Maio até às 23h59 do dia 28 de maio de 2023\, ou até serem contempladas todas as vagas.\n \nConfira todas as informações do boletim!\nBoletim: CATAr – PAMA \nCATAr de Adultos – PAMA
URL:https://www.escoteirossp.org.br/evento/catar-de-adultos-pama/
LOCATION:Parque de Material Aeronáutico de São Paulo (PAMA-SP)\, Av. Braz Leme\, 3258\, Santana\, São Paulo\, 02022021
CATEGORIES:Cursos,Modalidade do Ar
ATTACH;FMTTYPE=image/png:https://www.escoteirossp.org.br/wp/wp-content/uploads/2023/05/CATARCAPA.png
END:VEVENT
END:VCALENDAR