BEGIN:VCALENDAR
VERSION:2.0
PRODID:-//Escoteiros SP - ECPv6.15.20//NONSGML v1.0//EN
CALSCALE:GREGORIAN
METHOD:PUBLISH
X-WR-CALNAME:Escoteiros SP
X-ORIGINAL-URL:https://www.escoteirossp.org.br
X-WR-CALDESC:Eventos para Escoteiros SP
REFRESH-INTERVAL;VALUE=DURATION:PT1H
X-Robots-Tag:noindex
X-PUBLISHED-TTL:PT1H
BEGIN:VTIMEZONE
TZID:America/Sao_Paulo
BEGIN:STANDARD
TZOFFSETFROM:-0300
TZOFFSETTO:-0300
TZNAME:-03
DTSTART:20210101T000000
END:STANDARD
END:VTIMEZONE
BEGIN:VEVENT
DTSTART;VALUE=DATE:20221009
DTEND;VALUE=DATE:20221024
DTSTAMP:20260423T162002
CREATED:20220919T202443Z
LAST-MODIFIED:20220919T202443Z
UID:39717-1665273600-1666569599@www.escoteirossp.org.br
SUMMARY:CATAr de Jovens 2022
DESCRIPTION:Os jovens aprovados no Curso de Aperfeiçoamento de Técnicas do Ar (CATAr) adquirem um elevado conhecimento aeroespacial e estarão aptos a conquistar diversas\nespecialidades. A participação insere o cursante no apaixonante universo aeronáutico e aeroespacial\, oferece a oportunidade de experimentar o aeromodelismo\, o contato\ndireto com aeronaves e conhecer desde os conceitos da astronomia e da astronáutica até o básico de navegação aérea e mecânica aérea. Depois do CATAr\, olhar para o céu nunca mais será a mesma coisa! \nQuando?\nEtapa Online: 09 de outubro de 2022 (domingo) das 9h às 1 3h – meet ou zoom.\nEtapa Presencial: dia 22 de outubro (sábado) prevista das 9h às 15h do dia 23 de outubro\nde 2022 (domingo). \nOnde?\nEtapa Presencial: 22 e 23 de outubro de 2022 -Departamento de Ciência e Tecnologia Aeroespacial – DCTA\, Praça Marechal Eduardo Gomes\, 50 – Vila\ndas Acácias\, São José dos Campos – SP\, 12228-900 \nComo chegar: https://goo.gl/maps/JTJdkQp4NdkFZWwYA \nQuanto? \n• Jovens cursantes: R$ 175\,00 / Inclui: alimentação + distintivo do evento + brevê do CATAr de Jovens + cachecol\n• Jovens cursantes isentos: R$ 45\,00 / Inclui: alimentação+ distintivo do evento + brevê do CATAr de Jovens + cachecol\n• Escotista acompanhante: R$ 110\,00 / Inclui: alimentação\n• Escotista acompanhante isento: R$ 45\,00 / Inclui: alimentação\n• Equipe de serviço CATAr II (escolhidos pelo Conselho de CATAR II de Jovens): R$ 110\,00 / Inclui: alimentação \nComo se inscrever?\nExclusivamente via Meu Paxtu\, na área de eventos\, das 0h do dia 20/09/2022 até às 23h59 do dia 02/10/2022 ou até serem preenchidas todas as vagas.\nPara efetivação da inscrição\, é obrigatório enviar o termo de indicação do(a) jovem pela Corte de Honra (modelo definido pela própria UEL) para participar do CATAr\npara os e-mails eventos.sp@escoteiros.org.br com cópia para escoteirosdoar.sp@escoteiros.org.br. Solicitar confirmação de recebimento. \nConfira todas as informações no boletim\nBoletim  \nCATAr de Jovens 2022
URL:https://www.escoteirossp.org.br/evento/catar-de-jovens-2022/
LOCATION:Campus do DCTA (Departamento de Ciência e Tecnologia Aeroespacial) do Instituto Tecnológico de Aeronáutica (ITA)\, Praça Marechal Eduardo Gomes\, nº. 50\, Vila das Acácias\, S.\, ão José dos Campos/SP\, São Paulo\, 12228-615\, Brasil
CATEGORIES:Cursos
ATTACH;FMTTYPE=image/png:https://www.escoteirossp.org.br/wp/wp-content/uploads/2022/09/CATAr-J-capa.png
END:VEVENT
END:VCALENDAR