BEGIN:VCALENDAR
VERSION:2.0
PRODID:-//Escoteiros SP - ECPv6.15.20//NONSGML v1.0//EN
CALSCALE:GREGORIAN
METHOD:PUBLISH
X-WR-CALNAME:Escoteiros SP
X-ORIGINAL-URL:https://www.escoteirossp.org.br
X-WR-CALDESC:Eventos para Escoteiros SP
REFRESH-INTERVAL;VALUE=DURATION:PT1H
X-Robots-Tag:noindex
X-PUBLISHED-TTL:PT1H
BEGIN:VTIMEZONE
TZID:America/Sao_Paulo
BEGIN:STANDARD
TZOFFSETFROM:-0300
TZOFFSETTO:-0300
TZNAME:-03
DTSTART:20240101T000000
END:STANDARD
END:VTIMEZONE
BEGIN:VEVENT
DTSTART;VALUE=DATE:20251019
DTEND;VALUE=DATE:20251110
DTSTAMP:20260423T175535
CREATED:20250926T150049Z
LAST-MODIFIED:20250927T113353Z
UID:48756-1760832000-1762732799@www.escoteirossp.org.br
SUMMARY:CATAr de Jovens - Guarujá
DESCRIPTION:O Curso de Aperfeiçoamento de Técnicas do Ar (CATAr) de Jovens 2025 oferece aos participantes uma imersão no universo aeronáutico e aeroespacial. Durante o curso\, os jovens terão contato com atividades como aeromodelismo\, navegação aérea\, astronomia\, mecânica e muito mais\, ampliando seus conhecimentos técnicos e incentivando a conquista de especialidades da Modalidade do Ar. \nQuando\n\nEtapa Online: 19 de outubro de 2025 (domingo)\, das 8h às 15h.\nEtapa Presencial: 8 e 9 de novembro de 2025 (sábado e domingo).\n\nOnde\nBAST – Base Aérea de Santos / Grupo Escoteiro do Ar Capitão Capelão Vicente Aguiar 161/SPAv. Castelo Branco\, s/n – Jardim Cunhambebe (Vicente de Carvalho)\, Guarujá/SPComo chegar \nQuem pode participar\n\nEscoteiros(as): de qualquer Modalidade\, com Promessa Escoteira\, 13 anos completos até a etapa presencial\, registro válido e pelo menos uma especialidade da Modalidade do Ar registrada no Paxtu\, além de indicação da Corte de Honra.\nSeniores/Guias: de qualquer Modalidade\, com Promessa Escoteira\, registro válido e ao menos uma especialidade da Modalidade do Ar\, com indicação da Corte de Honra.\nEquipe de Serviço CATAr II: jovens de até 21 anos\, selecionados pelo Conselho de Jovens do CATAr II.\nEscotistas acompanhantes: com registro válido\, Nível Preliminar e Promessa Escoteira registrados no Paxtu.\n\nComo se inscrever\nExclusivamente via Meu PAXTU\, de 27 de setembro a 4 de outubro de 2025\, ou até o preenchimento das vagas.É obrigatório o envio do termo de indicação da Corte de Honra e demais documentações exigidas até 2 dias após o encerramento das inscrições. \n  \nConfira todos os detalhes: \nBoletim \n  \nCATAr de Jovens – Guarujá
URL:https://www.escoteirossp.org.br/evento/catar-de-jovens-guaruja/
LOCATION:BAST – Base Aérea de Santos\, Av. Castelo Branco\, S/N – Jardim Cunhambebe\, Guarujá\, São Paulo\, 11450-900\, Brasil
CATEGORIES:Cursos
ATTACH;FMTTYPE=image/png:https://www.escoteirossp.org.br/wp/wp-content/uploads/2025/09/CATArIIJovens-SP2024.png
ORGANIZER;CN="Diretoria Regional de M%C3%A9todos Educativos - Programa Educativo":MAILTO:programa.sp@escoteiros.org.br
END:VEVENT
END:VCALENDAR