BEGIN:VCALENDAR
VERSION:2.0
PRODID:-//Escoteiros SP - ECPv6.15.20//NONSGML v1.0//EN
CALSCALE:GREGORIAN
METHOD:PUBLISH
X-WR-CALNAME:Escoteiros SP
X-ORIGINAL-URL:https://www.escoteirossp.org.br
X-WR-CALDESC:Eventos para Escoteiros SP
REFRESH-INTERVAL;VALUE=DURATION:PT1H
X-Robots-Tag:noindex
X-PUBLISHED-TTL:PT1H
BEGIN:VTIMEZONE
TZID:America/Sao_Paulo
BEGIN:STANDARD
TZOFFSETFROM:-0300
TZOFFSETTO:-0300
TZNAME:-03
DTSTART:20220101T000000
END:STANDARD
END:VTIMEZONE
BEGIN:VEVENT
DTSTART;TZID=America/Sao_Paulo:20230820T080000
DTEND;TZID=America/Sao_Paulo:20230820T170000
DTSTAMP:20260424T064051
CREATED:20230721T123657Z
LAST-MODIFIED:20230721T124538Z
UID:42047-1692518400-1692550800@www.escoteirossp.org.br
SUMMARY:CATAr de Jovens - São Paulo
DESCRIPTION:Os jovens aprovados no Curso de Aperfeiçoamento de Técnicas do Ar (CATAr) adquirem um elevado conhecimento aeroespacial e estarão aptos a conquistar diversas especialidades. A participação insere o cursante no apaixonante universo aeronáutico e aeroespacial\, oferece a oportunidade de experimentar o aeromodelismo\, o contato direto com aeronaves e conhecer desde os conceitos da astronomia e da astronáutica até o básico de navegação aérea e mecânica aérea. Depois do CATAr\, olhar para o céu nunca mais será a mesma coisa! \nQuando \nEtapa Online: das 8h às 15h do dia 20 de Agosto de 2023 (domingo)\, meet ou zoom. A não participação da parte online\, impedirá participar da parte presencial.\nEtapa Presencial: prevista das 9h do dia 02 de setembro (sábado) às 15h do dia 03 de setembro de 2023 (domingo). \nOnde \nParque de Material Aeronáutico de São Paulo (PAMA-SP) / Sede do Grupo Escoteiro do Ar Senta Pua 335/SP\nAv. Braz Leme\, 3258 – Santana\, São Paulo – SP\, 02022-021\nConheça um pouco mais sobre o local do evento em: https://goo.gl/maps/nq8yMGWT8bP2 \nComo se inscrever \nExclusivamente via Meu Paxtu\, na área de eventos\, das 0h do dia 29/07/2023 até às 23h59 do dia 05/08/2023 ou até serem preenchidas todas as vagas.\nPara efetivação da inscrição\, é obrigatório enviar o termo de indicação do(a) jovem pela Corte de Honra (modelo definido pela própria UEL) para participar do CATAr para os e-mails programa.sp@escoteiros.org.br com cópia para modalidadedoar.sp@escoteiros.org.br. Solicitar confirmação de recebimento. \nConfira todas as informações:\nBoletim \nCATAr de Jovens – São Paulo
URL:https://www.escoteirossp.org.br/evento/catar-de-jovens-sao-paulo-2/
LOCATION:Parque de Material Aeronáutico de São Paulo (PAMA-SP)\, Av. Braz Leme\, 3258\, Santana\, São Paulo\, 02022021
CATEGORIES:Cursos
ATTACH;FMTTYPE=image/png:https://www.escoteirossp.org.br/wp/wp-content/uploads/2023/07/capasite_catarjovens.png
ORGANIZER;CN="Coordena%C3%A7%C3%A3o Regional da Modalidade do Ar":MAILTO:modalidadedoar.sp@escoteiros.org.br
END:VEVENT
END:VCALENDAR