BEGIN:VCALENDAR
VERSION:2.0
PRODID:-//Escoteiros SP - ECPv6.15.20//NONSGML v1.0//EN
CALSCALE:GREGORIAN
METHOD:PUBLISH
X-WR-CALNAME:Escoteiros SP
X-ORIGINAL-URL:https://www.escoteirossp.org.br
X-WR-CALDESC:Eventos para Escoteiros SP
REFRESH-INTERVAL;VALUE=DURATION:PT1H
X-Robots-Tag:noindex
X-PUBLISHED-TTL:PT1H
BEGIN:VTIMEZONE
TZID:America/Sao_Paulo
BEGIN:STANDARD
TZOFFSETFROM:-0300
TZOFFSETTO:-0300
TZNAME:-03
DTSTART:20210101T000000
END:STANDARD
END:VTIMEZONE
BEGIN:VEVENT
DTSTART;VALUE=DATE:20221120
DTEND;VALUE=DATE:20221205
DTSTAMP:20260423T222536
CREATED:20221029T124803Z
LAST-MODIFIED:20221029T124803Z
UID:40060-1668902400-1670198399@www.escoteirossp.org.br
SUMMARY:CATAr de Jovens - São Paulo
DESCRIPTION:Os jovens aprovados no Curso de Aperfeiçoamento de Técnicas do Ar (CATAr) adquirem um elevado conhecimento aeroespacial e estarão aptos a conquistar diversas especialidades. A participação insere o cursante no apaixonante universo aeronáutico e aeroespacial\, oferece a oportunidade de experimentar o aeromodelismo\, o contato direto com aeronaves e conhecer desde os conceitos da astronomia e da astronáutica até o básico de navegação aérea e mecânica aérea. Depois do CATAr\, olhar para o céu nunca mais será a mesma coisa! \nQuando?\nEtapa Online: das 8h às 13h do dia 20 de Novembro de 2022 (domingo)\, meet ou zoom.\nEtapa Presencial: prevista das 9h do dia 03 de dezembro (sábado) às 15h do dia 04 de dezembro de 2022 (domingo). \nOnde?\nParque de Material Aeronáutico de São Paulo (PAMA-SP)\nAv. Braz Leme\, 3258 – Santana\, São Paulo – SP\, 02022-021\nConheça um pouco mais sobre o local do evento em: https://goo.gl/maps/nq8yMGWT8bP2 \nComo se inscrever?\nExclusivamente via Meu Paxtu\, na área de eventos\, das 0h do dia 01/11/2022 até às 23h59 do dia 04/11/2022 ou até serem preenchidas todas as vagas.\nPara efetivação da inscrição\, é obrigatório enviar o termo de indicação do(a) jovem pela Corte de Honra (modelo definido pela própria UEL) para participar do CATAr para os e-mails programa.sp@escoteiros.org.br com cópia para modalidadedoar.sp@escoteiros.org.br. Solicitar confirmação de recebimento. \nQuanto?\nJovens cursantes: R$ 195\,00\nInclui: alimentação + distintivo do evento + brevê do CATAr de Jovens + cachecol\n• Jovens cursantes isentos: R$ 50\,00\nInclui: alimentação + distintivo do evento + brevê do CATAr de Jovens + cachecol\n• Escotista acompanhante: R$ 120\,00\nInclui: alimentação\n• Escotista acompanhante isento: R$ 50\,00\nInclui: alimentação\n• Equipe de serviço CATAr II (escolhidos pelo Conselho de CATAR II de Jovens): R$ 120\,00\nInclui: alimentação \nConfira todas as informações no boletim: \nBoletim \nCATAr de Jovens – São Paulo
URL:https://www.escoteirossp.org.br/evento/catar-de-jovens-sao-paulo/
LOCATION:Parque de Material Aeronáutico de São Paulo – PAMA/SP\, Av. Braz Leme\, Santana\, São Paulo\, 02022021
CATEGORIES:Cursos
ATTACH;FMTTYPE=image/png:https://www.escoteirossp.org.br/wp/wp-content/uploads/2022/10/Ativo-1.png
ORGANIZER;CN="Coordena%C3%A7%C3%A3o Regional da Modalidade do Ar":MAILTO:modalidadedoar.sp@escoteiros.org.br
END:VEVENT
END:VCALENDAR