BEGIN:VCALENDAR
VERSION:2.0
PRODID:-//Escoteiros SP - ECPv6.15.20//NONSGML v1.0//EN
CALSCALE:GREGORIAN
METHOD:PUBLISH
X-WR-CALNAME:Escoteiros SP
X-ORIGINAL-URL:https://www.escoteirossp.org.br
X-WR-CALDESC:Eventos para Escoteiros SP
REFRESH-INTERVAL;VALUE=DURATION:PT1H
X-Robots-Tag:noindex
X-PUBLISHED-TTL:PT1H
BEGIN:VTIMEZONE
TZID:America/Sao_Paulo
BEGIN:STANDARD
TZOFFSETFROM:-0300
TZOFFSETTO:-0300
TZNAME:-03
DTSTART:20230101T000000
END:STANDARD
END:VTIMEZONE
BEGIN:VEVENT
DTSTART;VALUE=DATE:20240928
DTEND;VALUE=DATE:20240929
DTSTAMP:20260424T090332
CREATED:20240801T233652Z
LAST-MODIFIED:20240822T161444Z
UID:45042-1727481600-1727567999@www.escoteirossp.org.br
SUMMARY:Cerimônia do Prêmio Aldo Chioratto 2024
DESCRIPTION:O prêmio “Aldo Chioratto”\, em sua primeira edição no ano de 2023\, visa reconhecer os jovens integrantes das UELs (Grupos Escoteiros/Seções Autônomas) da Região Escoteira de São Paulo que contribuem de forma exemplar e efetiva na conquista de suas Insígnias de Interesse Especial e no desenvolvimento de sua progressão pessoal. \nQUEM FOI ALDO CHIORATTO \nAldo Chioratto\, nascido em 05 de outubro de 1922 era escoteiro da Comissão Regional de Campinas e agregado à Cruzada Escoteira Pró-Constituição\, foi incorporado nas tropas paulistas\, como mensageiro requisitado pelo Coronel Mário Rangel.\nMorreu aos 9 anos na manhã de 18 de setembro de 1932\, na cidade de Campinas\, durante um dos bombardeiros estratégicos comandado pelo major-aviador Eduardo Gomes\, pelas Forças Armadas Brasileiras. Ele foi atingido por treze estilhaços de granada lançados por aviões adversários que bombardearam Campinas\, ferindo-o mortalmente.\nO garoto havia acabado de entregar uma correspondência para o comando revolucionário de Campinas na estação ferroviária\, na área central da cidade\, próximo à Vila Industrial.\nOs restos mortais de Aldo repousam hoje no Mausoléu Constitucionalista\, ao lado de outros tantos heróis dessa epopeia\, como a única criança a receber tal homenagem. \nPERFIL DOS PARTICIPANTES \nJovens de 6\,5 anos a 21 anos incompletos da Região Escoteira de São Paulo\, com registro escoteiro válido no período de aplicação do projeto em sua Seção/UEL\, e que desenvolveram projetos inovadores em suas UELs e/ ou comunidades em qualquer uma das áreas/categorias definidas no item 4 deste regulamento. \nCRONOGRAMA \n\n27/07/2024 – Divulgação do regulamento desta edição do prêmio\n29/07/2024 a 11/08/2024 (prorrogado para 08/09/2024) – Período de inscrições do prêmio\n21/08/2024 (prorrogado para 11/09/2024) – Divulgação dos finalistas de cada categoria do prêmio\n28/09/2024 – Cerimônia de premiação e divulgação oficial dos vencedores de cada categoria do prêmio\n\nConfira o regulamento completo no botão abaixo: \nRegulamento \nCerimônia do Prêmio Aldo Chioratto 2024
URL:https://www.escoteirossp.org.br/evento/cerimonia-do-premio-aldo-chioratto-2024/
CATEGORIES:Congresso
ATTACH;FMTTYPE=image/png:https://www.escoteirossp.org.br/wp/wp-content/uploads/2024/07/capa_capaforms.png
END:VEVENT
END:VCALENDAR