BEGIN:VCALENDAR
VERSION:2.0
PRODID:-//Escoteiros SP - ECPv6.15.20//NONSGML v1.0//EN
CALSCALE:GREGORIAN
METHOD:PUBLISH
X-WR-CALNAME:Escoteiros SP
X-ORIGINAL-URL:https://www.escoteirossp.org.br
X-WR-CALDESC:Eventos para Escoteiros SP
REFRESH-INTERVAL;VALUE=DURATION:PT1H
X-Robots-Tag:noindex
X-PUBLISHED-TTL:PT1H
BEGIN:VTIMEZONE
TZID:America/Sao_Paulo
BEGIN:STANDARD
TZOFFSETFROM:-0300
TZOFFSETTO:-0300
TZNAME:-03
DTSTART:20210101T000000
END:STANDARD
END:VTIMEZONE
BEGIN:VEVENT
DTSTART;TZID=America/Sao_Paulo:20220924T175000
DTEND;TZID=America/Sao_Paulo:20220924T190000
DTSTAMP:20260423T161916
CREATED:20220817T171023Z
LAST-MODIFIED:20220826T174939Z
UID:39352-1664041800-1664046000@www.escoteirossp.org.br
SUMMARY:Cerimônia do Prêmio Walter Dohme – 2022
DESCRIPTION:1. NATUREZA DO PRÊMIO \nO prêmio “Walter Dohme”\, em sua sétima edição no ano de 2022\, visa reconhecer os adultos voluntários (escotistas\, dirigentes\, contribuintes\, membros do Clube da Flor de Lis) atuantes em Unidades Escoteiras Locais – UELs (Grupos Escoteiros/Seções Autônomas) da Região Escoteira de São Paulo que contribuem de forma exemplar e efetiva para a correta aplicação do Programa Educativo e do Método Escoteiro\, bem como para uma melhor Gestão Institucional\, no cumprimento da missão do Movimento Escoteiro de educar crianças\, adolescentes e jovens para a vida e na construção de um Mundo Melhor. \n2. QUEM FOI WALTER DOHME? \nWalter Dohme ingressou no Movimento Escoteiro em 1951\, onde foi membro juvenil\, escotista\, dirigente e formador\, com atuação nos diversos níveis da organização escoteira. Foi um exemplo de adulto para seus jovens\, não só pela sua prática\, mas também por suas ideias inovadoras. Além de escoteiro\, era escritor\, ilustrador\, ludo-educador e ecologista\, e sempre será lembrado pela criação do personagem “Alertino\, o escoteiro”\, símbolo deste prêmio. Partiu para o Grande Acampamento em 2015\, deixando um grande legado\, dentro e fora do Escotismo. \n3. PERFIL DOS PARTICIPANTES \nAdultos voluntários (escotistas\, dirigentes\, contribuintes\, membros do Clube da Flor de Lis) da Região Escoteira de São Paulo\, com registro escoteiro válido no período de aplicação do projeto em sua Seção/Diretoria\, e que desenvolveram projetos inovadores em suas UELs e/ou comunidades em qualquer uma das áreas/categorias definidas no item 4 deste regulamento. \nCRONOGRAMA \n12/08/2022 Divulgação do regulamento desta edição do prêmio\n15/08 a 31/08/2022 Período de inscrições do prêmio\n10/09/2022 Live de divulgação desta edição do prêmio – Divulgação\ndo Prêmio Aldo Chioratto para 2023\n10/09/2022 Divulgação dos finalistas de cada categoria do prêmio\n24/09/2022 Cerimônia de premiação e divulgação oficial dos\nvencedores de cada categoria do prêmio \nConfira o regulamento completo no botão abaixo: \nRegulamento \nModelo de Carta de Recomendação para UEL’s \nModelo de Projeto \nCerimônia do Prêmio Walter Dohme – 2022
URL:https://www.escoteirossp.org.br/evento/cerimonia-do-premio-walter-dohme-2022/
LOCATION:Campus do DCTA (Departamento de Ciência e Tecnologia Aeroespacial) do Instituto Tecnológico de Aeronáutica (ITA)\, Praça Marechal Eduardo Gomes\, nº. 50\, Vila das Acácias\, S.\, ão José dos Campos/SP\, São Paulo\, 12228-615\, Brasil
CATEGORIES:Dirigente,Escotista
ATTACH;FMTTYPE=image/png:https://www.escoteirossp.org.br/wp/wp-content/uploads/2022/08/capa-formulario.png
ORGANIZER;CN="Diretoria Regional de M%C3%A9todos Educativos":MAILTO:metodos.sp@escoteiros.org.br
END:VEVENT
END:VCALENDAR