BEGIN:VCALENDAR
VERSION:2.0
PRODID:-//Escoteiros SP - ECPv6.15.20//NONSGML v1.0//EN
CALSCALE:GREGORIAN
METHOD:PUBLISH
X-WR-CALNAME:Escoteiros SP
X-ORIGINAL-URL:https://www.escoteirossp.org.br
X-WR-CALDESC:Eventos para Escoteiros SP
REFRESH-INTERVAL;VALUE=DURATION:PT1H
X-Robots-Tag:noindex
X-PUBLISHED-TTL:PT1H
BEGIN:VTIMEZONE
TZID:America/Sao_Paulo
BEGIN:STANDARD
TZOFFSETFROM:-0300
TZOFFSETTO:-0300
TZNAME:-03
DTSTART:20230101T000000
END:STANDARD
END:VTIMEZONE
BEGIN:VEVENT
DTSTART;VALUE=DATE:20240928
DTEND;VALUE=DATE:20240929
DTSTAMP:20260424T123229
CREATED:20240801T233753Z
LAST-MODIFIED:20240822T161602Z
UID:45039-1727481600-1727567999@www.escoteirossp.org.br
SUMMARY:Cerimônia do Prêmio Walter Dohme 2024
DESCRIPTION:O prêmio “Walter Dohme”\, em sua nona edição no ano de 2024\, visa reconhecer os adultos voluntários (escotistas\, dirigentes\, contribuintes\, membros do Clube da Flor de Lis) atuantes em Unidades Escoteiras Locais – UELs (Grupos Escoteiros/Seções Autônomas) da Região Escoteira de São Paulo que contribuem de forma exemplar e efetiva para a correta aplicação do Programa Educativo e do Método Escoteiro\, bem como para uma melhor Gestão Institucional\, no cumprimento da Missão do Movimento Escoteiro de educar crianças\, adolescentes e jovens para a vida e na construção de um Mundo Melhor. \nPERFIL DOS PARTICIPANTES \nAdultos voluntários (escotistas\, dirigentes\, contribuintes\, membros do Clube da Flor de Lis) da Região Escoteira de São Paulo\, com registro escoteiro válido no período de aplicação do projeto em sua Seção/ Diretoria\, e que desenvolveram projetos inovadores em suas UELs e/ou comunidades em qualquer uma das áreas/categorias definidas no item 4 deste regulamento. \nCRONOGRAMA \n\n27/07/2024 – Divulgação do regulamento desta edição do prêmio\n29/07/2024 a 11/08/2024 (prorrogado para 08/09/2024) – Período de inscrições do prêmio\n21/08/2024 (prorrogado para 11/09/2024) – Divulgação dos finalistas de cada categoria do prêmio\n28/09/2024 – Cerimônia de premiação e divulgação oficial dos vencedores de cada categoria do prêmio\n\nConfira o regulamento completo no botão abaixo: \nRegulamento \nCerimônia do Prêmio Walter Dohme 2024
URL:https://www.escoteirossp.org.br/evento/cerimonia-do-premio-walter-dohme-2024/
CATEGORIES:Congresso,Escotista
ATTACH;FMTTYPE=image/png:https://www.escoteirossp.org.br/wp/wp-content/uploads/2024/07/CAPACARTA.png
END:VEVENT
END:VCALENDAR