BEGIN:VCALENDAR
VERSION:2.0
PRODID:-//Escoteiros SP - ECPv6.15.20//NONSGML v1.0//EN
CALSCALE:GREGORIAN
METHOD:PUBLISH
X-WR-CALNAME:Escoteiros SP
X-ORIGINAL-URL:https://www.escoteirossp.org.br
X-WR-CALDESC:Eventos para Escoteiros SP
REFRESH-INTERVAL;VALUE=DURATION:PT1H
X-Robots-Tag:noindex
X-PUBLISHED-TTL:PT1H
BEGIN:VTIMEZONE
TZID:America/Sao_Paulo
BEGIN:STANDARD
TZOFFSETFROM:-0300
TZOFFSETTO:-0300
TZNAME:-03
DTSTART:20210101T000000
END:STANDARD
END:VTIMEZONE
BEGIN:VEVENT
DTSTART;VALUE=DATE:20220616
DTEND;VALUE=DATE:20220620
DTSTAMP:20260423T161957
CREATED:20200513T202026Z
LAST-MODIFIED:20220612T193617Z
UID:26801-1655337600-1655683199@www.escoteirossp.org.br
SUMMARY:Conecta Sampa 2022
DESCRIPTION:ATENÇÃO: Pensando no bem-estar coletivo e levando em consideração as orientações das autoridades competentes\, o calendário de vacinação brasileiro e os pilares do Desenvolvimento Sustentável que orientam o Conecta Sampa\, o evento foi adiado em função da pandemia da COVID-19 e tem como nova data o feriado de Corpus Christi de 2022\, de 16 a 19 de junho de 2022. \n\nEm consonância com os princípios do Movimento Escoteiro e com os 17 Objetivos de Desenvolvimento Sustentável (ODS) da Organização das Nações Unidas (ONU)\, o Conecta Sampa é o fechamento do “Conecte-se”\, um conjunto de sugestões atividades criadas pelas Coordenações de Programa Educativo da Região Escoteira São Paulo\, as quais cada Distrito\, Unidade Escoteira Local e/ou Seção realizou/realizará de forma descentralizada ao longo de 2019. \nForam três grandes propostas que juntas trouxeram fichas de atividades para todas as áreas de desenvolvimento: “Conecte-se no coração”\, cujas atividades estimularam o desenvolvimento espiritual e afetivo: Caminhada com Francisco\, Mutirão Espiritual do Ramo Escoteiro\, Conexão Sênior e Pré-Vigília Pioneira; “Conecte-se sempre na mente”\, com ênfase no desenvolvimento intelectual e social: #soulobinho\, Mutirão Tecnológico do Ramo Escoteiro\,\nZap Zap Sênior e Congresso Regional Pioneiro; e “Conecte-se junto de mim”\, com foco nas áreas de desenvolvimento física e do caráter: Rally de Lobinhos\, Distritos em Ação – Ramo Escoteiro\, Mega Pioneirias Sênior e Dia Regional de Ação Comunitária Pioneira (DRACoPio). \nO Conecta Sampa vem para finalizar este ciclo promovendo a conexão de todos e todas\, na vivência concreta de nossa Fraternidade Escoteira! Vem para explorar\, pela vivência\, todos os aspectos do desenvolvimento sustentável\, valorizando o ciclo natural da vida e a integração dos jovens dos quatro ramos (Lobinho\, Escoteiro\, Sênior e Pioneiro). \nO Conecta Sampa tem como compromisso gerar o mínimo de impacto possível em todos os seus processos e atividades\, incentivando jovens e adultos a repensarem seus hábitos\, buscando desenvolver um olhar mais crítico sobre os mais diversos aspectos da vida em sociedade. \nQuando?\nDe 16 a 19 de junho de 2022\nDe sábado a terça-feira \nOnde?\nEstância Árvore da Vida – Sumaré – São Paulo/SP \nSaiba mais!\nVisite o site do evento \nDownloads\nBoletim 1 – atualizado \nBoletim 2 \nBoletim 3.1 – atualizado (20/05/2020) \nBoletim 4 \nPlano de Gestão Ambiental \nBoletim 5 \nBoletim 6 \nBoletim 7 \nBoletim 8\n \nBoletim 9 – (postado em 13/04/2022) \nBoletim 10 \nBoletim 11 \nLista das Equipes \nBoletim 12 \nBoletim 13 \nGuia do Participantes \n  \nConecta Sampa 2022
URL:https://www.escoteirossp.org.br/evento/conecta-sampa-2021/
LOCATION:Estância Árvore da Vida\, Estrada Estância Árvore da Vida\, sn\, Sumaré\, Sao Paulo\, 13176-050\, Brasil
CATEGORIES:Conecta Sampa
ATTACH;FMTTYPE=image/png:https://www.escoteirossp.org.br/wp/wp-content/uploads/2020/05/Thumb-Site.png
END:VEVENT
END:VCALENDAR