BEGIN:VCALENDAR
VERSION:2.0
PRODID:-//Escoteiros SP - ECPv6.15.20//NONSGML v1.0//EN
CALSCALE:GREGORIAN
METHOD:PUBLISH
X-WR-CALNAME:Escoteiros SP
X-ORIGINAL-URL:https://www.escoteirossp.org.br
X-WR-CALDESC:Eventos para Escoteiros SP
REFRESH-INTERVAL;VALUE=DURATION:PT1H
X-Robots-Tag:noindex
X-PUBLISHED-TTL:PT1H
BEGIN:VTIMEZONE
TZID:America/Sao_Paulo
BEGIN:STANDARD
TZOFFSETFROM:-0300
TZOFFSETTO:-0300
TZNAME:-03
DTSTART:20200101T000000
END:STANDARD
END:VTIMEZONE
BEGIN:VEVENT
DTSTART;TZID=America/Sao_Paulo:20210417T083000
DTEND;TZID=America/Sao_Paulo:20210417T190000
DTSTAMP:20260423T180408
CREATED:20201212T141707Z
LAST-MODIFIED:20201212T141707Z
UID:32701-1618648200-1618686000@www.escoteirossp.org.br
SUMMARY:Conferência Regional de Meio Ambiente
DESCRIPTION:O que é o evento?\nA Conferência Regional de Meio Ambiente 2021 tem como objetivo estimular o pensamento crítico de\npioneiros e voluntários da instituição em relação aos impactos ambientais decorrentes das atividades\nescoteiras mais comuns\, bem como de hábitos individuais dos escoteiros. Dentre as estratégias do evento\, \nestão o entendimento sobre a educação ambiental e sua função enquanto ferramenta na educação não-\nformal\, o debate multidisciplinar que tange às questões ambientais e seus representantes\, as técnicas \nrecomendadas para análise e diminuição do impacto ambiental causado pelas atividades ao ar livre\n(especialmente as atividades escoteiras) e o aprendizado em grupo. \nO porquê do evento?\nAtende ao previsto nos objetivos 1.4.3 e 1.5.2 do Plano Estratégico Regional 2019-2021 da Região Escoteira de São Paulo e os Objetivos de Desenvolvimento Sustentável 4\, 6\, 7\, 12 e 13 da Agenda 2030 da Organização das Nações Unidas (ONU). \nQuando?\n17 de abril de 2021 (sábado)\nAbertura prevista às 8h30 e encerramento previsto às 19h\nCheck-in do dia 12 ao dia 14 de abril de 2021 (segunda a quarta-feira) \nOnde?\nVirtualmente\, através do canal do Youtube da Região Escoteira de São Paulo e de salas no Google Meet. Os links serão enviados diretamente aos participantes na semana que antecede o evento. \nQuem pode participar?\nPioneiras e Pioneiros\, Escotistas e Dirigentes\, com registro escoteiro válido. \nQuanto?\nEvento Gratuito. \nComo se inscrever?\nExclusivamente via Meu PAXTU\, na área de Eventos\, das 0h do dia 11 de dezembro de 2020 até às 23h59 do dia 17 de março de 2021\, ou até serem contempladas todas as vagas. \nLimite de vagas\n120 (cento e vinte) para Pioneiras\, Pioneiros\, Escotistas e Dirigentes. \nBoletim  \nConferência Regional de Meio Ambiente
URL:https://www.escoteirossp.org.br/evento/conferencia-regional-de-meio-ambiente/
LOCATION:Online
CATEGORIES:Conferência
ATTACH;FMTTYPE=image/png:https://www.escoteirossp.org.br/wp/wp-content/uploads/2020/12/socialAtivo-1avatar.png
ORGANIZER;CN="Coordena%C3%A7%C3%A3o Regional de Meio Ambiente":MAILTO:meioambiente@escoteirossp.org.br
END:VEVENT
END:VCALENDAR