BEGIN:VCALENDAR
VERSION:2.0
PRODID:-//Escoteiros SP - ECPv6.15.20//NONSGML v1.0//EN
CALSCALE:GREGORIAN
METHOD:PUBLISH
X-WR-CALNAME:Escoteiros SP
X-ORIGINAL-URL:https://www.escoteirossp.org.br
X-WR-CALDESC:Eventos para Escoteiros SP
REFRESH-INTERVAL;VALUE=DURATION:PT1H
X-Robots-Tag:noindex
X-PUBLISHED-TTL:PT1H
BEGIN:VTIMEZONE
TZID:America/Sao_Paulo
BEGIN:STANDARD
TZOFFSETFROM:-0300
TZOFFSETTO:-0300
TZNAME:-03
DTSTART:20240101T000000
END:STANDARD
END:VTIMEZONE
BEGIN:VEVENT
DTSTART;TZID=America/Sao_Paulo:20250927T080000
DTEND;TZID=America/Sao_Paulo:20250928T133000
DTSTAMP:20260423T162034
CREATED:20250901T211539Z
LAST-MODIFIED:20250922T160858Z
UID:48526-1758960000-1759066200@www.escoteirossp.org.br
SUMMARY:Congresso Regional Escoteiro 2025
DESCRIPTION:O Congresso Regional Escoteiro tem como objetivo reunir Escotistas e Dirigentes interessados em ampliar a visão sobre a sua atuação na área de Métodos Educativos e fortalecer os voluntários em sua missão de educar os jovens para a vida\, com base no Projeto Educativo dos Escoteiros do Brasil e da Organização Mundial do Movimento Escoteiro. Para isso\, serão realizadas palestras e oficinas para discutirmos\, num ambiente de confraternização\, quais caminhos tomaremos para melhor e corretamente aplicarmos o Método Escoteiro e o nosso Programa Educativo e gerir nossas Unidades Escoteiras Locais (UELs)\, onde o Escotismo acontece. \nO Congresso Regional Escoteiro também tem a proposta de discutir sobre a atualização do programa educativo com o objetivo de propor debates para contribuir com a prática nas UELs\, debater sobre o crescimento da instituição e promover oficinas práticas a serem reproduzidas pelos escotistas e dirigentes. \nQuando\nSábado e domingo\, 27 e 28 de setembro de 2025.\n \nOnde\nUniAnchieta\nAvenida Odila Azalim\, 575 – Vila Nova\, Jundiaí – SP\, 13210-795\n \nQuem pode participar\nCongresso Regional Escoteiro: Escotistas e Dirigentes\, com registro escoteiro válido.\nAssociados do Movimento Bandeirante. \nComo se inscrever\nExclusivamente via Meu PAXTU\, na área de Eventos\, dia 02 de setembro de 2025 até às 23h59min do dia 22 de setembro de 2025\, ou até serem preenchidas todas as vagas. \nMais informações:\nBoletim 1 \nBoletim 2 \nBoletim Comercial \n  \nCongresso Regional Escoteiro 2025
URL:https://www.escoteirossp.org.br/evento/congresso-regional-escoteiro-2025/
LOCATION:UniAnchieta\, Avenida Odila Azalim\, 575 – Vila Nova\, Jundiaí\, São Paulo
CATEGORIES:Congresso,Dirigente,Escotista
ATTACH;FMTTYPE=image/png:https://www.escoteirossp.org.br/wp/wp-content/uploads/2025/09/CRE25_site.png
ORGANIZER;CN="Diretoria Regional":MAILTO:eventos.sp@escoteiros.org.br
END:VEVENT
END:VCALENDAR