BEGIN:VCALENDAR
VERSION:2.0
PRODID:-//Escoteiros SP - ECPv6.15.20//NONSGML v1.0//EN
CALSCALE:GREGORIAN
METHOD:PUBLISH
X-WR-CALNAME:Escoteiros SP
X-ORIGINAL-URL:https://www.escoteirossp.org.br
X-WR-CALDESC:Eventos para Escoteiros SP
REFRESH-INTERVAL;VALUE=DURATION:PT1H
X-Robots-Tag:noindex
X-PUBLISHED-TTL:PT1H
BEGIN:VTIMEZONE
TZID:America/Sao_Paulo
BEGIN:STANDARD
TZOFFSETFROM:-0300
TZOFFSETTO:-0300
TZNAME:-03
DTSTART:20200101T000000
END:STANDARD
END:VTIMEZONE
BEGIN:VEVENT
DTSTART;TZID=America/Sao_Paulo:20211127T090000
DTEND;TZID=America/Sao_Paulo:20211127T120000
DTSTAMP:20260423T161830
CREATED:20211105T190849Z
LAST-MODIFIED:20211105T191040Z
UID:37041-1638003600-1638014400@www.escoteirossp.org.br
SUMMARY:Conversa Temática: Envolvimento Comunitário
DESCRIPTION:O que é o evento?\nLevando em consideração as atualizações do método dos Escoteiros do Brasil\, implementam-se agora oito pontos\, possuindo o “Envolvimento Comunitário” em nossas práticas. Portanto\, o Núcleo Regional de Jovens Líderes de São Paulo convida a Equipe Regional de Envolvimento Comunitário para apresentar\, divulgar e abrir para discussão o tema\, e como ele pode ser desenvolvido no movimento escoteiro\, juntamente com a apresentação da Equipe e seus trabalhos. A Conversa Temática é promovida pelo Núcleo Regional de Jovens Líderes\, para que seniores\, guias\, pioneiros\, pioneiras\, escotistas e dirigentes possam trocar experiências e entender um pouco mais sobre a relevância do Envolvimento Comunitário\, para fazermos do mundo um lugar melhor. Com conhecimento e empatia\, podemos ajudar muita gente!  \nQuando?\nData: 27/11/2021 (sábado) \nAbertura prevista às 9h e encerramento previsto às 12h \nOnde?\nVirtualmente\, através do aplicativo Google MEET \nQuem pode participar?\nPioneiros (as)\, Escotistas e Dirigentes\, com registro escoteiro válido. \nComo se inscrever?\nExclusivamente via Meu PAXTU\, na área de Eventos\, até às 23h59min do 22 de novembro de 2021\, ou até serem completadas todas as vagas. \nLimite de vagas\n50 (cinquenta) vagas \n25 (vinte e cinco) destinadas a associados com idade igual ou superior a 26 anos \n25 (vinte e cinco) a associados menores de 26 anos \nFacilitadores\nLukas Palermo Lopes – Coordenador Regional de Envolvimento Comunitário e Comunicador do Núcleo Regional de Jovens Líderes. \nJoão Pedro Ferreira de Castro Maia – Coordenador Regional Adjunto de Envolvimento Comunitário. \nMarianna Scocca Orosco Brandi – Membro da Equipe Regional de Envolvimento Comunitário. \nPaulo César Salustiano da Silva – Membro da Equipe Regional de Envolvimento Comunitário. \nDenis Valenzuela das Neves – Coordenador do Núcleo Regional de Jovens Líderes. \nLuiz Fernando Paiva Vella Junior – Coordenador do Núcleo Regional de Jovens Líderes. \nRealização\nNúcleo Regional de Jovens Líderes \nE-mail: jovens.lideres@escoteirossp.org.br \nDúvidas sobre inscrição no evento\nEscritório Regional de São Paulo dos Escoteiros do Brasil – Eventos \nE-mail: eventos@escoteirossp.org.br \nTel.: (11) 3154-5500 \n  \n\n Informar no assunto do e-mail o nome do evento e o assunto a que se refere e no corpo do e-mail\, informar nome do evento\, tema\, nome completo\, UEL\, número do registro e telefone para contato.\n\n  \nAcompanhe as novidades do evento pelo site www.escoteirossp.org.br e pela página no Facebook Escoteiros SP. \nConversa Temática: Envolvimento Comunitário
URL:https://www.escoteirossp.org.br/evento/conversa-tematica-envolvimento-comunitario/
LOCATION:Online
CATEGORIES:Conversa Temática
ATTACH;FMTTYPE=image/jpeg:https://www.escoteirossp.org.br/wp/wp-content/uploads/2021/11/WhatsApp-Image-2021-11-05-at-4.00.23-PM-e1636138899451.jpeg
ORGANIZER;CN="N%C3%BAcleo Regional de Jovens L%C3%ADderes":MAILTO:jovens.lideres@escoteirossp.org.br
END:VEVENT
END:VCALENDAR