BEGIN:VCALENDAR
VERSION:2.0
PRODID:-//Escoteiros SP - ECPv6.15.20//NONSGML v1.0//EN
CALSCALE:GREGORIAN
METHOD:PUBLISH
X-WR-CALNAME:Escoteiros SP
X-ORIGINAL-URL:https://www.escoteirossp.org.br
X-WR-CALDESC:Eventos para Escoteiros SP
REFRESH-INTERVAL;VALUE=DURATION:PT1H
X-Robots-Tag:noindex
X-PUBLISHED-TTL:PT1H
BEGIN:VTIMEZONE
TZID:America/Sao_Paulo
BEGIN:STANDARD
TZOFFSETFROM:-0300
TZOFFSETTO:-0300
TZNAME:-03
DTSTART:20200101T000000
END:STANDARD
END:VTIMEZONE
BEGIN:VEVENT
DTSTART;TZID=America/Sao_Paulo:20210206T093000
DTEND;TZID=America/Sao_Paulo:20210206T123000
DTSTAMP:20260423T150401
CREATED:20210113T191439Z
LAST-MODIFIED:20210113T191439Z
UID:33258-1612603800-1612614600@www.escoteirossp.org.br
SUMMARY:Conversa Temática: Importância da Inclusão no Escotismo
DESCRIPTION:Para começar bem o Ano de 2021 o Núcleo Regional de Jovens Líderes de São Paulo\, convida a Equipe Regional de Inclusão para conjuntamente apresentar\, divulgar e abrir para discussão a temática de o que é a Inclusão\, e como ela pode ser aplicada no movimento escoteiro\, juntamente com a apresentação da Equipe e seus Trabalhos. Conversa Temática\, promovida pelo Núcleo Regional de Jovens Líderes\, para que seniores\, guias\, pioneiros\, pioneiras\, escotistas e dirigentes possam trocar experiências e entender um pouco mais sobre a Importância da Inclusão no Escotismo. Com conhecimento e empatia\, podemos ajudar muita gente! Venha participar!\n\n\nData: 06/02/2021 (sábado)\n \nHorário: das 9h30 às 12h30 \nLocal: On-line (ZOOM) \nInscrições via Meu Paxtu até 03/02/2021\, ou até serem completadas todas as vagas. \nQuem pode participar? Seniores/Guias\, Pioneiros (as)\, Escotistas e Dirigentes\, com registro escoteiro válido. \nLimite de vagas:  50 (cinquenta) \n25 (vinte e cinco) destinadas a associados com idade igual ou superior a 26 anos \n25 (vinte e cinco) a associados menores de 26 anos. \nTodos os participantes deverão apresentar\, obrigatoriamente\, no dia da atividade\, autorização digital (baixar na área de Eventos do Meu Paxtu) assinada pelo responsável legal (no caso de menores de idade) e pela Diretoria da Unidade Escoteira Local (todos\, menores ou maiores de idade)\, e estar devidamente uniformizados para participar da atividade.\n \nAcessibilidade: O evento pode oferecer intérprete de Libras e Audiodescrição\, conforme as necessidades especificadas na inscrição via Paxtu. \nFacilitadores:\n \nGuilherme Crosoeh (Coordenador da Equipe de Inclusão – SP)\nLukas Palermo (Comunicador do Núcleo Regional de Jovens Líderes – SP)\nLuiz Paiva (Coordenador do Núcleo Regional de Jovens Líderes – SP)\nBárbara Rossana (Facilitadora de Inclusão Socioeconômica \, e membro da Equipe de Inclusão)\nJúlia Araújo (Facilitadora de Inclusão de Pessoas com Deficiência\, e membro da Equipe de Inclusão) \nConversa Temática: Importância da Inclusão no Escotismo
URL:https://www.escoteirossp.org.br/evento/conversa-tematica-importancia-da-inclusao-no-escotismo/
LOCATION:Online
CATEGORIES:Conversa Temática
ATTACH;FMTTYPE=image/jpeg:https://www.escoteirossp.org.br/wp/wp-content/uploads/2021/01/WhatsApp-Image-2021-01-13-at-16.04.31.jpeg
ORGANIZER;CN="N%C3%BAcleo Regional de Jovens L%C3%ADderes":MAILTO:jovens.lideres@escoteirossp.org.br
END:VEVENT
END:VCALENDAR