BEGIN:VCALENDAR
VERSION:2.0
PRODID:-//Escoteiros SP - ECPv6.15.20//NONSGML v1.0//EN
CALSCALE:GREGORIAN
METHOD:PUBLISH
X-WR-CALNAME:Escoteiros SP
X-ORIGINAL-URL:https://www.escoteirossp.org.br
X-WR-CALDESC:Eventos para Escoteiros SP
REFRESH-INTERVAL;VALUE=DURATION:PT1H
X-Robots-Tag:noindex
X-PUBLISHED-TTL:PT1H
BEGIN:VTIMEZONE
TZID:America/Sao_Paulo
BEGIN:STANDARD
TZOFFSETFROM:-0300
TZOFFSETTO:-0300
TZNAME:-03
DTSTART:20200101T000000
END:STANDARD
END:VTIMEZONE
BEGIN:VEVENT
DTSTART;TZID=America/Sao_Paulo:20210724T090000
DTEND;TZID=America/Sao_Paulo:20210724T120000
DTSTAMP:20260423T162250
CREATED:20210701T211556Z
LAST-MODIFIED:20210701T211556Z
UID:35891-1627117200-1627128000@www.escoteirossp.org.br
SUMMARY:Conversa Temática: Processo de Formação dos Voluntários dos Escoteiros do Brasil
DESCRIPTION:O que é o evento?\nVocê já parou pra pensar sobre o ciclo de vida do adulto no movimento escoteiro? Entende como funciona o processo de formação dos voluntários dos escoteiros do Brasil? Se quer aprender e tirar suas dúvidas sobre o processo de formação de Escotistas e Dirigentes\, participe da Conversa Temática\, promovida pelo Núcleo Regional de Jovens Líderes\, para que pioneiros\, pioneiras\, escotistas e dirigentes possam trocar experiências e entender um pouco mais sobre Formação de adultos voluntários no Movimento Escoteiro. Com conhecimento e empatia\, podemos ajudar muita gente!  \nQuando?\nData: 24/07/2021 (sábado) \nAbertura prevista às 9h e encerramento previsto às 12h \nOnde?\nVirtualmente\, através do aplicativo Google MEET \nQuem pode participar?\nPioneiros (as)\, Escotistas e Dirigentes\, com registro escoteiro válido. \nComo se inscrever?\nExclusivamente via Meu PAXTU\, na área de Eventos\, até às 23h59min do 17 de julho de 2021\, ou até serem completadas todas as vagas. \nLimite de vagas\n100(cem) vagas. \nFacilitadores\nElcio de Souza Lopes \nCoordenador Adjunto da Equipe Regional de Gestão da Formação\, ingressou no Movimento Escoteiro em 1981\, como Lobinho. E começou a aprender Escotismo desde então\, tornou-se parte do 1º Grupo de Gilwell em 1999\, como Escotista (Ramo Escoteiro)\, e começou a aprender a atuar na Equipe de Formação desde então. Possui o Curso de Formadores Nível 1 (atual CNGA 1) e está cursando o CNGA 2. Atua há algum tempo na Educação à Distância na Região São Paulo colaborando como tutor\, formador e diretor em diversos cursos. \n  \nPaula Ramos Raiza. \nIngressou no Escotismo em 1996 em São Bernardo. É mãe de três crianças (com o também escoteiro Raphael Raiza)\, uma lobinha (que já foi fada bandeirante) e dois meninos gêmeos ansiosos para entrar na Alcateia. É Engenheira Ambiental\, Pós-graduada em Química Ambiental. Atua há 16 anos em Processos de Gerenciamento de Áreas Contaminadas\, desenvolvendo e coordenando projetos e capacitando profissionais. Vivenciou os Ramos Escoteiro\, Sênior\, Pioneiro\, atuando como Escotista no Ramo Escoteiro por 10 anos\, e também foi Coordenadora do Ramo Escoteiro no 14º Distrito Escoteiro – Caminho do Mar. Apoiou à diretoria da UEL\, orientando quanto ao Programa Educativo e Gestão de Adultos\, e depois trabalhou como Diretora Presidente do 68/SP Grupo Escoteiro Guaianazes. Atua na Formação de Voluntários desde 2011\, possui Cursos Avançados nas linhas do Ramo Escoteiro e Dirigente\, e presta suporte à Coordenação Nacional do Ramo Escoteiro. Atualmente está\, também\, atuando como Coordenadora Adjunta da Equipe Regional de Gestão da Formação. \nRealização\nNúcleo Regional de Jovens Líderes \nE-mail: jovens.lideres@escoteirossp.org.br \n  \nDúvidas sobre inscrições do evento\nEscritório Regional de São Paulo dos Escoteiros do Brasil – Eventos \nE-mail: eventos@escoteirossp.org.br \nTel.: (11) 3154-5500 \n  \n\n Informar no assunto do e-mail o nome do evento e o assunto a que se refere e no corpo do e-mail\, informar nome do evento\, tema\, nome completo\, UEL\, número do registro e telefone para contato.\n\n  \nAcompanhe as novidades do evento pelo site www.escoteirossp.org.br e pela página no Facebook Escoteiros SP. \nConversa Temática: Processo de Formação dos Voluntários dos Escoteiros do Brasil
URL:https://www.escoteirossp.org.br/evento/conversa-tematica-processo-de-formacao-dos-voluntarios-dos-escoteiros-do-brasil/
LOCATION:Online
CATEGORIES:Conversa Temática
ATTACH;FMTTYPE=image/jpeg:https://www.escoteirossp.org.br/wp/wp-content/uploads/2021/07/WhatsApp-Image-2021-06-30-at-17.49.15.jpeg
ORGANIZER;CN="N%C3%BAcleo Regional de Jovens L%C3%ADderes":MAILTO:jovens.lideres@escoteirossp.org.br
END:VEVENT
END:VCALENDAR