BEGIN:VCALENDAR
VERSION:2.0
PRODID:-//Escoteiros SP - ECPv6.15.20//NONSGML v1.0//EN
CALSCALE:GREGORIAN
METHOD:PUBLISH
X-WR-CALNAME:Escoteiros SP
X-ORIGINAL-URL:https://www.escoteirossp.org.br
X-WR-CALDESC:Eventos para Escoteiros SP
REFRESH-INTERVAL;VALUE=DURATION:PT1H
X-Robots-Tag:noindex
X-PUBLISHED-TTL:PT1H
BEGIN:VTIMEZONE
TZID:America/Sao_Paulo
BEGIN:STANDARD
TZOFFSETFROM:-0300
TZOFFSETTO:-0300
TZNAME:-03
DTSTART:20200101T000000
END:STANDARD
END:VTIMEZONE
BEGIN:VEVENT
DTSTART;VALUE=DATE:20210419
DTEND;VALUE=DATE:20210531
DTSTAMP:20260423T175409
CREATED:20210318T203650Z
LAST-MODIFIED:20210319T140353Z
UID:34567-1618790400-1622419199@www.escoteirossp.org.br
SUMMARY:Curso Preliminar
DESCRIPTION:A Coordenação Regional de Gestão da Formação de São Paulo dos Escoteiros do Brasil convida os interessados a participarem do Curso Preliminar em formato EAD! \nEste é o primeiro curso sequencial da linha de formação dos Escoteiros do Brasil\, aberto\, também\, à participação daqueles que ainda não são associados aos Escoteiros do Brasil. \nO Curso Preliminar contribui no aprimoramento de competências que promovam o conhecimento do ambiente escoteiro e sua metodologia\, com o objetivo de despertar no voluntário a consciência do seu papel na Organização. \n? Quem pode participar?\nMaiores de 18 anos de idade e\, quando associados dos Escoteiros do Brasil\, com a recomendação do seu Assessor Pessoal de Formação. \n? Quando? \nDe 19 de abril a 30 de maio de 2021. \n? Onde? \nEnsino a Distância (EAD)\, online. \nBasta que tenha um computador\, tablet ou celular com conexão à internet. \nO cursante deverá ter disponibilidade para encontros online\, por meio de videoconferência\, em datas a serem informadas\, durante o período de realização do curso. \n? Quanto? \nGratuito. \n? Como se inscrever? \nAssociados dos Escoteiros do Brasil \nExclusivamente via MEU PAXTU\, área de Eventos\, das 0h do dia 29 de março até as 23h59 do dia 5 de abril de 2021\, ou até serem preenchidas todas as vagas. \nNão-associados dos Escoteiros do Brasil \nNo site http://cursos.escoteirossp.org.br/\, buscar pelo Curso Preliminar Região SP (SEM REGISTRO) e efetuar sua inscrição\, das 0h do dia 29 de março até as 23h59 do dia 5 de abril de 2021 \, ou até serem preenchidas todas as vagas. \n*ATENÇÃO*: As inscrições de associados dos Escoteiros do Brasil por meio do site http://cursos.escoteirossp.org.br/ serão desconsideradas. Associados dos Escoteiros do Brasil devem efetuar sua inscrição via MEU PAXTU\, conforme descrito acima. \n? Vagas \n200 (duzentas) vagas \n? Conteúdo Programático \nAmbientação \nFundamentos do Escotismo I \nPerfis\, Cargos e Funções de Escotistas \nSistema Nacional de Formação e Rotas de Aprendizagem \nImportância e aplicação de Jogos e Canções \nCerimônias Escoteiras\, Sinais Manuais\, Apitos e Vozes de Comando \nCaracterísticas do Desenvolvimento de Crianças\, Adolescentes e Jovens \nVisão Geral do Programa Educativo \nValores e Espiritualidade no Movimento Escoteiro I \nPlanejando e Vivenciando uma Reunião Semanal \nTrabalho em Equipe na U.E.L envolvendo os Pais \nSó será emitido certificado de participação para aqueles que concluírem 100% do conteúdo proposto. \n?Diretora do curso \nMaria Lucia Badin Marques \nPedagoga com Pós em Gestão Escolar e Educação Especial\, está no Movimento Escoteiro há 28 anos. \nAtualmente está como Diretora Presidente do 45º/SP Tiradentes. Possui Insígnia de Madeira (IM) do Ramo Escoteiro e já atuou por vários anos como Coordenadora Distrital de Gestão de Adultos (CDGA) do 25º Distrito Escoteiro Bauru. \n? Mais Informações \nEscritório Regional de São Paulo dos Escoteiros do Brasil \nTelefone: 11 3154-5500\, opção 3 (Gestão de Adultos) \nCurso Preliminar
URL:https://www.escoteirossp.org.br/evento/curso-preliminar/
LOCATION:Online
CATEGORIES:EAD,Formação
ATTACH;FMTTYPE=image/jpeg:https://www.escoteirossp.org.br/wp/wp-content/uploads/2020/07/20190519101709_IMG_6261.jpg
END:VEVENT
END:VCALENDAR