BEGIN:VCALENDAR
VERSION:2.0
PRODID:-//Escoteiros SP - ECPv6.15.20//NONSGML v1.0//EN
CALSCALE:GREGORIAN
METHOD:PUBLISH
X-WR-CALNAME:Escoteiros SP
X-ORIGINAL-URL:https://www.escoteirossp.org.br
X-WR-CALDESC:Eventos para Escoteiros SP
REFRESH-INTERVAL;VALUE=DURATION:PT1H
X-Robots-Tag:noindex
X-PUBLISHED-TTL:PT1H
BEGIN:VTIMEZONE
TZID:America/Sao_Paulo
BEGIN:STANDARD
TZOFFSETFROM:-0200
TZOFFSETTO:-0300
TZNAME:-03
DTSTART:20190217T020000
END:STANDARD
END:VTIMEZONE
BEGIN:VEVENT
DTSTART;VALUE=DATE:20200810
DTEND;VALUE=DATE:20200911
DTSTAMP:20260423T172234
CREATED:20200727T190023Z
LAST-MODIFIED:20200729T143500Z
UID:29121-1597017600-1599782399@www.escoteirossp.org.br
SUMMARY:Curso Regional de Tutores em EAD
DESCRIPTION:O Curso Regional de Tutores em EAD traz o conhecimento necessário para que o (a) formador (a) possa atuar como tutor (a) em iniciativas formativas de EAD (Educação a Distância) que necessitam de acompanhamento mediado. Neste curso serão trabalhados conceitos sobre EAD\, netiqueta\, metodologia\,  ferramentas e avaliação em EAD e o papel do tutor. \n? Quem pode participar? \nFormadores (as)\, com registro escoteiro válido\, que tenham cursado o Encontro de Capacitação de Formadores ou equivalente. \n? Quando? \nDe 10 de agosto a 10 de setembro de 2020. \n? Onde? \nEnsino a Distância (EAD)\, online. \nBasta que tenha um computador\, tablet ou celular com conexão à internet. \n? Quanto? \nGratuito. \n? Como se inscrever? \nExclusivamente via MEU PAXTU\, área de Eventos\, das 0h do dia 3 de agosto até as 23h59 do dia 7 de agosto de 2020\, ou até serem completadas todas as vagas. \n50 (cinquenta) vagas \n? Conteúdo Programático \nO que é EAD? \nUso da Netiqueta \nAprendizagem de Adultos \nMetodologia de EAD \nFerramentas de Tutoria \nAvaliação em EAD \nO papel do tutor em EAD \nSó será emitido certificado de participação para aqueles que concluírem 100% do conteúdo proposto.  \n?Diretor (a) do curso \nJaquilene de Lima Luz  \nCoordenadora pedagógica\, especialista em designer instrucional\, com formação em Letras e Pedagogia. \nAtual Coordenadora Regional e Nacional de Suporte em EAD dos Escoteiros do Brasil\, além de formadora e escotista e dirigente em nível Local. \n  \n? Mais Informações \nEscritório Regional de São Paulo dos Escoteiros do Brasil – Gestão de Adultos \nE-mail: gestaoadultos@escoteirossp.org.br \nCurso Regional de Tutores em EAD
URL:https://www.escoteirossp.org.br/evento/curso-regional-de-tutores-em-ead/
LOCATION:Online
CATEGORIES:EAD,Formação
ATTACH;FMTTYPE=image/jpeg:https://www.escoteirossp.org.br/wp/wp-content/uploads/2019/11/goi.jpg
END:VEVENT
END:VCALENDAR