BEGIN:VCALENDAR
VERSION:2.0
PRODID:-//Escoteiros SP - ECPv6.15.20//NONSGML v1.0//EN
CALSCALE:GREGORIAN
METHOD:PUBLISH
X-WR-CALNAME:Escoteiros SP
X-ORIGINAL-URL:https://www.escoteirossp.org.br
X-WR-CALDESC:Eventos para Escoteiros SP
REFRESH-INTERVAL;VALUE=DURATION:PT1H
X-Robots-Tag:noindex
X-PUBLISHED-TTL:PT1H
BEGIN:VTIMEZONE
TZID:America/Sao_Paulo
BEGIN:STANDARD
TZOFFSETFROM:-0300
TZOFFSETTO:-0300
TZNAME:-03
DTSTART:20210101T000000
END:STANDARD
END:VTIMEZONE
BEGIN:VEVENT
DTSTART;VALUE=DATE:20220122
DTEND;VALUE=DATE:20220306
DTSTAMP:20260423T162041
CREATED:20211124T181318Z
LAST-MODIFIED:20211124T181318Z
UID:37167-1642809600-1646524799@www.escoteirossp.org.br
SUMMARY:Curso Técnico de Gestão Distrital
DESCRIPTION:O que é o evento?\nO Curso Técnico de Gestão Distrital é uma oportunidade de desenvolver competências relacionadas à gestão de um distrito escoteiro. Serão trabalhadas habilidades relacionadas à Gestão Institucional\, Gestão de Adultos\, Programa Educativo e Desenvolvimento Institucional. \nO porquê do evento?\nA atividade atende ao previsto nos objetivos do Plano Estratégico Regional Escoteiro\, itens 1.1.1\, 1.4.6 e 2.9.2\, além  dos Indicadores Brasileiros para os Objetivos de Desenvolvimento Sustentável\, item 4. \nQuando?\nDe 22 de janeiro de 2022 a 05 de março de 2022 \nOnde?\nOn-line\nwww.escoteirosead.org.br\nAlém do acompanhamento conteúdo na Plataforma Escoteiros EAD\, haverão encontros síncronos via Google Meet.\n22/01/2022 Sab 9h às 12h: Abertura\n29/01/2022 Sab 9h às 12h: Debate/discussão de temas/dúvidas\n05/02/2022 Sab 9h às 12h: Debate/discussão de temas/dúvidas\n05/03/2022 Sab 9h às 12h: Encerramento \nQuanto?\nEvento Gratuito. \nQuem pode participar?\nEscotistas e Dirigentes que:\n• Tenham concluído e homologado o Nível Intermediário Dirigente;\n• Estejam em dia com seu registro junto à União dos Escoteiros do Brasil\, e com suas obrigações administrativas e financeiras junto à Unidade Escoteira Local. \nComo se inscrever?\nExclusivamente via Meu PAXTU\, na área de Eventos\, da 00h do 28 de novembro de 2021 às 23h59 do 06 de janeiro de 2022\, ou até serem contempladas todas as vagas. Haverá uma triagem somente para garantia de ao menos uma vaga para cada distrito escoteiro (quando houverem interessados). \nLimite de vagas\n40 (quarenta) vagas. \n  \nConfira o boletim completo abaixo: \nBoletim \n  \nCurso Técnico de Gestão Distrital
URL:https://www.escoteirossp.org.br/evento/curso-tecnico-de-gestao-distrital/
LOCATION:Online
CATEGORIES:Cursos
ATTACH;FMTTYPE=image/jpeg:https://www.escoteirossp.org.br/wp/wp-content/uploads/2020/12/thumbnail.jpeg
END:VEVENT
END:VCALENDAR