BEGIN:VCALENDAR
VERSION:2.0
PRODID:-//Escoteiros SP - ECPv6.15.20//NONSGML v1.0//EN
CALSCALE:GREGORIAN
METHOD:PUBLISH
X-WR-CALNAME:Escoteiros SP
X-ORIGINAL-URL:https://www.escoteirossp.org.br
X-WR-CALDESC:Eventos para Escoteiros SP
REFRESH-INTERVAL;VALUE=DURATION:PT1H
X-Robots-Tag:noindex
X-PUBLISHED-TTL:PT1H
BEGIN:VTIMEZONE
TZID:America/Sao_Paulo
BEGIN:STANDARD
TZOFFSETFROM:-0300
TZOFFSETTO:-0300
TZNAME:-03
DTSTART:20230101T000000
END:STANDARD
END:VTIMEZONE
BEGIN:VEVENT
DTSTART;VALUE=DATE:20240504
DTEND;VALUE=DATE:20240617
DTSTAMP:20260424T020212
CREATED:20240406T133139Z
LAST-MODIFIED:20240426T204441Z
UID:44292-1714780800-1718582399@www.escoteirossp.org.br
SUMMARY:Cursos Avançados - 1º Semestre 2024
DESCRIPTION:Os Cursos Avançados buscam contribuir com o aprimoramento de competências que promovam o conhecimento do ambiente escoteiro e sua metodologia\, para estruturar no voluntário a consciência do seu papel na Organização. As competências no Nível Avançado evidenciam a capacidade de sintetizar conceitos\, propor novas ideias e a melhoria contínua a partir de autoavaliação/avaliação crítica dos conceitos e elementos próprios do cargo/função e seu dia a dia. \nQuando \n• Ramo Lobinho\n1ª Etapa 04 e 05 de maio de 2024\n2ª Etapa 08 e 09 de junho de 2024 \n• Ramo Escoteiro\n1ª Etapa 04 e 05 de maio de 2024\n2ª Etapa 08 e 09 de junho de 2024 \n• Ramo Sênior\n1ª Etapa 25 e 26 de maio de 2024\n2ª Etapa 22 e 23 de junho de 2024 \n• Ramo Pioneiro\n1ª Etapa 25 e 26 de maio de 2024\n2ª Etapa 22 e 23 de junho de 2024 \n• Dirigente Institucional\n1ª Etapa 18 e 19 de maio de 2024\n2ª Etapa 15 e 16 de junho de 2024 \nOnde \n• Ramos Lobinho e Escoteiro\nColégio Itamarati\, Rua Eugênio Rocha Filho\, 506 – Jardim Irajá – Ribeirão Preto/SP\nComo chegar: https://maps.app.goo.gl/EK7tAS8UPjSnTjbdA\n• Ramos Sênior e Pioneiro\nEscola Estadual Major Juvenal Alvim\, Alameda Prof. Lucas Nogueira Garcez\, 1007 – Vila Thais – Atibaia/SP\nComo chegar: https://maps.app.goo.gl/oMKhgEFG5EmMo8867\n• Dirigente Institucional\nEscola Estadual Major Juvenal Alvim\, Alameda Prof. Lucas Nogueira Garcez\, 1007 – Vila Thais – Atibaia/SP\nComo chegar: https://maps.app.goo.gl/oMKhgEFG5EmMo8867 \nComo se inscrever \nExclusivamente via Meu PAXTU\, na área de Eventos:\n• Ramos Lobinho e Escoteiro: Prorrogação das Inscrições até 28 de abril ou até serem preenchidas todas as vagas.\n• Ramos Sênior e Pioneiro: das 00h01 do dia 7 de abril de 2024 até às 23h59min do dia\n6 de maio de 2024\, ou até serem preenchidas todas as vagas.\n• Dirigente Institucional: das 00h01 do dia 7 de abril de 2024 até às 23h59min do dia 6\nde maio de 2024\, ou até serem preenchidas todas as vagas. \nConfira todas as informações no boletim:\nBoletim – Cursos Avançados \nCursos Avançados – 1º Semestre 2024
URL:https://www.escoteirossp.org.br/evento/cursos-avancados-2/
CATEGORIES:Cursos
ATTACH;FMTTYPE=image/png:https://www.escoteirossp.org.br/wp/wp-content/uploads/2024/04/banneravancado.png
ORGANIZER;CN="Diretoria Regional de M%C3%A9todos Educativos":MAILTO:metodos.sp@escoteiros.org.br
END:VEVENT
END:VCALENDAR