BEGIN:VCALENDAR
VERSION:2.0
PRODID:-//Escoteiros SP - ECPv6.15.20//NONSGML v1.0//EN
CALSCALE:GREGORIAN
METHOD:PUBLISH
X-WR-CALNAME:Escoteiros SP
X-ORIGINAL-URL:https://www.escoteirossp.org.br
X-WR-CALDESC:Eventos para Escoteiros SP
REFRESH-INTERVAL;VALUE=DURATION:PT1H
X-Robots-Tag:noindex
X-PUBLISHED-TTL:PT1H
BEGIN:VTIMEZONE
TZID:America/Sao_Paulo
BEGIN:STANDARD
TZOFFSETFROM:-0300
TZOFFSETTO:-0300
TZNAME:-03
DTSTART:20200101T000000
END:STANDARD
END:VTIMEZONE
BEGIN:VEVENT
DTSTART;VALUE=DATE:20210901
DTEND;VALUE=DATE:20211002
DTSTAMP:20260423T145050
CREATED:20210615T191326Z
LAST-MODIFIED:20210615T191414Z
UID:35693-1630454400-1633132799@www.escoteirossp.org.br
SUMMARY:Módulo de Aperfeiçoamento: Ciclo de Programa
DESCRIPTION:O que é o evento?\nOs Módulos de Aperfeiçoamento sobre Ciclo de Programa objetivam contribuir com o desenvolvimento e compreensão dos Ciclos de Programa de cada Ramo (Lobinho/Escoteiro/Sênior/Pioneiro). \nO porquê do evento?\nA atividade atende ao previsto nos objetivos do Plano Estratégico Regional Escoteiro\, item 1.4.4 e aos Indicadores Brasileiros para os Objetivos de Desenvolvimento Sustentável\, item 4. \nQuando?\nDe 01 de setembro de 2021 a 01 de outubro de 2021. \nOnde?\nOn-line\nwww.escoteirosead.org.br  \nQuem pode participar?\nEscotistas e Dirigentes. \nComo se inscrever?\nExclusivamente via Meu PAXTU\, na área de Eventos\, da 00h do dia 11 de junho de 2021 às 23h59 do dia 02 de agosto de 2021\, ou até serem contempladas todas as vagas. \nLimite de vagas\n200 vagas. \nQuanto?\nGratuito. \n  \nConfira todas as informações: \nBoletim completo \n  \nMódulo de Aperfeiçoamento: Ciclo de Programa
URL:https://www.escoteirossp.org.br/evento/cursos-ciclo-de-programa/
LOCATION:Online
CATEGORIES:Cursos,EAD,Formação
ATTACH;FMTTYPE=image/jpeg:https://www.escoteirossp.org.br/wp/wp-content/uploads/2020/12/thumbnail.jpeg
END:VEVENT
END:VCALENDAR