BEGIN:VCALENDAR
VERSION:2.0
PRODID:-//Escoteiros SP - ECPv6.15.20//NONSGML v1.0//EN
CALSCALE:GREGORIAN
METHOD:PUBLISH
X-WR-CALNAME:Escoteiros SP
X-ORIGINAL-URL:https://www.escoteirossp.org.br
X-WR-CALDESC:Eventos para Escoteiros SP
REFRESH-INTERVAL;VALUE=DURATION:PT1H
X-Robots-Tag:noindex
X-PUBLISHED-TTL:PT1H
BEGIN:VTIMEZONE
TZID:America/Sao_Paulo
BEGIN:STANDARD
TZOFFSETFROM:-0300
TZOFFSETTO:-0300
TZNAME:-03
DTSTART:20230101T000000
END:STANDARD
END:VTIMEZONE
BEGIN:VEVENT
DTSTART;VALUE=DATE:20240413
DTEND;VALUE=DATE:20240422
DTSTAMP:20260424T113005
CREATED:20240316T131038Z
LAST-MODIFIED:20240316T131038Z
UID:44134-1712966400-1713743999@www.escoteirossp.org.br
SUMMARY:Cursos Intermediários - 1º semestre
DESCRIPTION:O que é o evento \nA Política Nacional de Adultos no Movimento Escoteiro estabelece que\, para o desenvolvimento de um sistema de gestão de adultos\, o enfoque por competências é o ponto central de todos os momentos e processos que compõem o Ciclo de Vida do Adulto. Os cursos de formação são um momento importante para a equalização de pontos de vista\, apresentação de ideias e esclarecimento de questões que\, durante a vivência de uma Rota de Aprendizagem\, possam surgir trazendo dúvidas quanto à boa atuação e desempenho da função. \nOnde\n• Ramos Lobinho\, Escoteiro\, Sênior e Pioneiro\nEducativa – Instituto de Educação e Cultura\nRua Aristides de Santi\, 11 – Portal do Sol\nSão Carlos – SP\nhttps://maps.app.goo.gl/9MKGT8MB17yxXuNc8 \n• Dirigente Institucional\nEMEF Prof.ª Iris de Castro Amadio\nRua Carmela Grando Batistela\, 175 – Jardim Vitória\nBoituva – SP\nhttps://maps.app.goo.gl/ouFUve4Ew8DfCyq5A \nQuando \n\nRamos Lobinho\, Escoteiro\, Sênior e Pioneiro: 13 e 14 de abril de 2024\nDirigente Institucional: 20 e 21 de abril de 2024\n\n  \nQuem pode participar? \nEscotistas e Dirigentes que:  \n\nTenham concluído e homologado o Nível Preliminar;\nEstejam em dia com seu registro junto à União dos Escoteiros do Brasil\, e com suas obrigações administrativas e financeiras junto à Unidade Escoteira Local;\nTenham recomendação de seu Assessor Pessoal de Formação (via formulário online a ser enviado).\n\nConforme Resolução CAN 05/2021: Altera as Regras 130\, 131 e 132 do P.O.R. (Princípios\, Organização e Regras)\nhttps://escoteiros.org.br/wp-content/uploads/2021/06/ResolucaoCAN05_2021.pdf \nBoletim – Cursos Intermediários 1º semestre \nCursos Intermediários – 1º semestre
URL:https://www.escoteirossp.org.br/evento/cursos-intermediarios-1o-semestre/
ATTACH;FMTTYPE=image/png:https://www.escoteirossp.org.br/wp/wp-content/uploads/2024/03/Design-sem-nome-2.png
ORGANIZER;CN="Diretoria Regional de M%C3%A9todos Educativos":MAILTO:metodos.sp@escoteiros.org.br
END:VEVENT
END:VCALENDAR