BEGIN:VCALENDAR
VERSION:2.0
PRODID:-//Escoteiros SP - ECPv6.15.20//NONSGML v1.0//EN
CALSCALE:GREGORIAN
METHOD:PUBLISH
X-WR-CALNAME:Escoteiros SP
X-ORIGINAL-URL:https://www.escoteirossp.org.br
X-WR-CALDESC:Eventos para Escoteiros SP
REFRESH-INTERVAL;VALUE=DURATION:PT1H
X-Robots-Tag:noindex
X-PUBLISHED-TTL:PT1H
BEGIN:VTIMEZONE
TZID:America/Sao_Paulo
BEGIN:STANDARD
TZOFFSETFROM:-0300
TZOFFSETTO:-0300
TZNAME:-03
DTSTART:20240101T000000
END:STANDARD
END:VTIMEZONE
BEGIN:VEVENT
DTSTART;VALUE=DATE:20250823
DTEND;VALUE=DATE:20250825
DTSTAMP:20260423T162906
CREATED:20250731T165414Z
LAST-MODIFIED:20250731T165414Z
UID:48115-1755907200-1756079999@www.escoteirossp.org.br
SUMMARY:Cursos Intermediários - 2º semestre
DESCRIPTION:A Política Nacional de Adultos no Movimento Escoteiro estabelece que\, para o desenvolvimento de um sistema de gestão de adultos\, o enfoque por competências é o ponto central de todos os momentos e processos que compõem o Ciclo de Vida do Adulto. Os cursos de formação são um momento importante para a equalização de pontos de vista\, apresentação de ideias e esclarecimento de questões que\, durante a vivência de uma Rota de Aprendizagem\, possam surgir trazendo dúvidas quanto à boa atuação e desempenho da função. \nQuando\nTodos os cursos acontecerão nos dias 23 e 24 de agosto de 2025\, sábado e domingo. \nOnde\nChácara do AbacateiroEstrada Municipal João Peruchi – Cascalho\, Cordeirópolis/SPComo chegar \nQuem pode participar\nEscotistas e Dirigentes que: \n\nPossuam registro ativo junto à União dos Escoteiros do Brasil;\nTenham o Nível Preliminar concluído e homologado no Paxtu;\nEstejam em dia com as obrigações administrativas e financeiras junto à sua UEL;\nSejam recomendados por seu Assessor Pessoal de Formação por meio de formulário online específico.\n\nAs inscrições serão triadas pelo Escritório Regional\, e a inscrição só será efetivada após a verificação do cumprimento dos critérios. A simples inscrição não garante a vaga no curso. \nComo se inscrever\nAs inscrições devem ser feitas exclusivamente via Meu PAXTU\, na área de Eventos\, de 27 de julho a 17 de agosto de 2025\, ou até o preenchimento total das vagas. \n  \nAcesse o boletim: \nBoletim – Cursos Intermediários \n  \nCursos Intermediários – 2º semestre
URL:https://www.escoteirossp.org.br/evento/cursos-intermediarios-2o-semestre/
LOCATION:Chácara do Abacateiro\, Estrada Municipal João Peruchi - Cascalho\, Cordeirópolis\, SP\, 13490-000\, Brazil
ATTACH;FMTTYPE=image/png:https://www.escoteirossp.org.br/wp/wp-content/uploads/2025/07/Captura-de-tela-2025-07-31-135342.png
ORGANIZER;CN="Diretoria Regional de M%C3%A9todos Educativos - Gest%C3%A3o de Adultos":MAILTO:voluntariado.sp@escoteiros.org.br
END:VEVENT
END:VCALENDAR