BEGIN:VCALENDAR
VERSION:2.0
PRODID:-//Escoteiros SP - ECPv6.15.20//NONSGML v1.0//EN
CALSCALE:GREGORIAN
METHOD:PUBLISH
X-WR-CALNAME:Escoteiros SP
X-ORIGINAL-URL:https://www.escoteirossp.org.br
X-WR-CALDESC:Eventos para Escoteiros SP
REFRESH-INTERVAL;VALUE=DURATION:PT1H
X-Robots-Tag:noindex
X-PUBLISHED-TTL:PT1H
BEGIN:VTIMEZONE
TZID:America/Sao_Paulo
BEGIN:STANDARD
TZOFFSETFROM:-0300
TZOFFSETTO:-0300
TZNAME:-03
DTSTART:20220101T000000
END:STANDARD
END:VTIMEZONE
BEGIN:VEVENT
DTSTART;VALUE=DATE:20230907
DTEND;VALUE=DATE:20230911
DTSTAMP:20260424T024013
CREATED:20230509T140959Z
LAST-MODIFIED:20230831T201547Z
UID:41485-1694044800-1694390399@www.escoteirossp.org.br
SUMMARY:Desafio Sênior Regional "Amo Peé - Todas as Tribos"
DESCRIPTION:Após um período de afastamento de atividades presenciais\, nada melhor do que reunir os amigos e participar de uma grande atividade. O Desafio Sênior Regional 2023 de São Paulo propõe a superação do seu real desafio. Todo programa educativo do ramo será colocado à disposição dos jovens para que sejam desafiados a serem cada vez mais atuantes em suas comunidades. \nO que é o evento? \nO evento é um acampamento regional que propõe aos participantes vivenciar diversas atividades em módulos. Os módulos serão temáticos e propiciarão aos jovens a vivência do programa educativo do ramo sênior. \nQuando?\nO evento será realizado no feriado de setembro\, entre os dias 7 e 10/09/2023.\n \nOnde?\nSerá realizado na cidade de Itirapina.\nRodovia Ulisses Guimarães\, Km 22 – Fazenda Monjolinho\nComo chegar: https://goo.gl/maps/RBT9avAFhg5qySCc6\n \nQuanto?\nJovens: R$ 798\,00\nJovens isentos: R$ 199\,50\nEscotista acompanhante: R$ 798\,00\nEquipe de serviço: R$ 399\,00\n \n*Confira o boletim para ter todas as informações referente à pagamentos. \nComo se inscrever?\nExclusivamente pelo Meu Paxtu\, área de Eventos\, das 00h do dia 9 de maio de 2023 até às 23h59 do dia 6 de agosto de 2023\, ou até serem completadas todas as vagas. \nQuem pode participar?\nJovens do ramo sênior ou em transição do ramo escoteiro para o ramo sênior\, em patrulhas compostas por 6 jovens e 1 escotista acompanhante. O fato de a patrulha ser mista\, não implica em mais de um escotista por patrulha. Habilitar inscrição da patrulha via forms \nBoletim – Desafio Sênior Regional \nBoletim 2 – Módulos  \nBoletim 3 – Prorrogação das Inscrições  \nBoletim 4 – Doação\, Telefonia e Autorizações   \nDesafio Sênior Regional “Amo Peé – Todas as Tribos”
URL:https://www.escoteirossp.org.br/evento/desafio-senior-regional-amo-pee-todas-as-tribos/
LOCATION:Fazenda Monjolinho\, Rodovia Ulisses Guimarães\, Km 22 - Fazenda Monjolinho\, Itirapina\, São Paulo\, Brasil
CATEGORIES:Acampamento
ATTACH;FMTTYPE=image/png:https://www.escoteirossp.org.br/wp/wp-content/uploads/2023/05/bannersite-1.png
END:VEVENT
END:VCALENDAR