BEGIN:VCALENDAR
VERSION:2.0
PRODID:-//Escoteiros SP - ECPv6.15.20//NONSGML v1.0//EN
CALSCALE:GREGORIAN
METHOD:PUBLISH
X-WR-CALNAME:Escoteiros SP
X-ORIGINAL-URL:https://www.escoteirossp.org.br
X-WR-CALDESC:Eventos para Escoteiros SP
REFRESH-INTERVAL;VALUE=DURATION:PT1H
X-Robots-Tag:noindex
X-PUBLISHED-TTL:PT1H
BEGIN:VTIMEZONE
TZID:America/Sao_Paulo
BEGIN:STANDARD
TZOFFSETFROM:-0300
TZOFFSETTO:-0300
TZNAME:-03
DTSTART:20230101T000000
END:STANDARD
END:VTIMEZONE
BEGIN:VEVENT
DTSTART;TZID=America/Sao_Paulo:20240907T073000
DTEND;TZID=America/Sao_Paulo:20240907T120000
DTSTAMP:20260424T011330
CREATED:20240826T185246Z
LAST-MODIFIED:20240826T185246Z
UID:45287-1725694200-1725710400@www.escoteirossp.org.br
SUMMARY:Desfile 7 de setembro - 202º Aniversário da Proclamação da Independência do Brasil
DESCRIPTION:Comemoração Alusiva ao 202º Aniversário da Proclamação da Independência do Brasil\nIndependência do Brasil é um processo que se estende de 1821 a 1825 e coloca em violenta oposição o Reino do Brasil e o Reino de Portugal\, dentro do Reino Unido de Portugal\, Brasil e Algarves. As Cortes Gerais e Extraordinárias da Nação Portuguesa\, instaladas em 1820\, como uma consequência da Revolução Liberal do Porto\, tomam decisões\, a partir de 1821\, que tinham como objetivo reduzir novamente o Brasil ao seu antigo estatuto colonial.\n \nQuando\nSábado\, 07 de setembro de 2024.\nConcentração das 7h30 às 8h (na área de concentração do Sambódromo\, com entrada pelo portão 29 da Rua Prof. Milton Rodrigues)\nPrevisão de entrada em pista às 9h\nDuração do desfile dos Escoteiros do Brasil de 15 a 20 minutos.\nTérmino geral do Desfile às 12h\n \nOnde\nSambódromo do Anhembi\nAvenida Olavo Fontoura\, Casa Verde Baixa\, São Paulo/SP\nComo chegar: https://goo.gl/2rLje2\n \nConfira o boletim\n \nDesfile 7 de setembro – 202º Aniversário da Proclamação da Independência do Brasil
URL:https://www.escoteirossp.org.br/evento/desfile-7-de-setembro-202o-aniversario-da-proclamacao-da-independencia-do-brasil/
LOCATION:Sambódromo do Anhembi\, Avenida Olavo Fontoura\, Casa Verde Baixa\, São Paulo/SP\, São Paulo\, Brasil
ATTACH;FMTTYPE=image/png:https://www.escoteirossp.org.br/wp/wp-content/uploads/2024/08/site.desfile-1.png
ORGANIZER;CN="Diretoria Regional de Eventos":MAILTO:eventos.sp@escoteiros.org.br
END:VEVENT
END:VCALENDAR