BEGIN:VCALENDAR
VERSION:2.0
PRODID:-//Escoteiros SP - ECPv6.15.20//NONSGML v1.0//EN
CALSCALE:GREGORIAN
METHOD:PUBLISH
X-WR-CALNAME:Escoteiros SP
X-ORIGINAL-URL:https://www.escoteirossp.org.br
X-WR-CALDESC:Eventos para Escoteiros SP
REFRESH-INTERVAL;VALUE=DURATION:PT1H
X-Robots-Tag:noindex
X-PUBLISHED-TTL:PT1H
BEGIN:VTIMEZONE
TZID:America/Sao_Paulo
BEGIN:STANDARD
TZOFFSETFROM:-0300
TZOFFSETTO:-0300
TZNAME:-03
DTSTART:20210101T000000
END:STANDARD
END:VTIMEZONE
BEGIN:VEVENT
DTSTART;TZID=America/Sao_Paulo:20220907T073000
DTEND;TZID=America/Sao_Paulo:20220907T123000
DTSTAMP:20260423T193849
CREATED:20220827T160809Z
LAST-MODIFIED:20220906T173924Z
UID:39464-1662535800-1662553800@www.escoteirossp.org.br
SUMMARY:Desfile 7 de setembro - Bicentenário da Independência do Brasil
DESCRIPTION:Independência do Brasil é um processo que se estende de 1821 a 1825 e coloca em\nviolenta oposição o Reino do Brasil e o Reino de Portugal\, dentro do Reino Unido de\nPortugal\, Brasil e Algarves. As Cortes Gerais e Extraordinárias da Nação Portuguesa\,\ninstaladas em 1820\, como uma consequência da Revolução Liberal do Porto\, tomam\ndecisões\, a partir de 1821\, que tinham como objetivo reduzir novamente o Brasil ao seu\nantigo estatuto colonial. \nQuando?\n07 de setembro de 2022 (quarta-feira)\nConcentração das 7h30 às 8h (a área de concentração deste ano será na Rua Ouvidor\nPortugal\, no Ipiranga)\nPrevisão de entrada em pista: 8h45\nDuração do desfile dos Escoteiros do Brasil: 15 min\nTérmino geral do Desfile: 12h30 \nOnde?\nO evento na cidade de São Paulo acontece na Avenida Dom Pedro I\, Zona Sul da capital\npaulista\, próximo ao Parque da Independência.\nEsquina da Avenida Dom Pedro I x Rua Ouvidor Portugal\, Ipiranga\, São Paulo/SP \nComo se inscrever?\nExclusivamente via PAXTU Administrativo das 0h do dia 28 de agosto até às 23h59 do dia 05\nde setembro de 2022\, ou até serem completadas todas as vagas. \nConfira todas as informações \nBoletim 1  \nBoletim 2 \nDesfile 7 de setembro – Bicentenário da Independência do Brasil
URL:https://www.escoteirossp.org.br/evento/desfile-7-de-setembro/
ATTACH;FMTTYPE=image/png:https://www.escoteirossp.org.br/wp/wp-content/uploads/2022/08/CAPA-EVENTO.png
END:VEVENT
END:VCALENDAR