BEGIN:VCALENDAR
VERSION:2.0
PRODID:-//Escoteiros SP - ECPv6.15.20//NONSGML v1.0//EN
CALSCALE:GREGORIAN
METHOD:PUBLISH
X-WR-CALNAME:Escoteiros SP
X-ORIGINAL-URL:https://www.escoteirossp.org.br
X-WR-CALDESC:Eventos para Escoteiros SP
REFRESH-INTERVAL;VALUE=DURATION:PT1H
X-Robots-Tag:noindex
X-PUBLISHED-TTL:PT1H
BEGIN:VTIMEZONE
TZID:America/Sao_Paulo
BEGIN:STANDARD
TZOFFSETFROM:-0300
TZOFFSETTO:-0300
TZNAME:-03
DTSTART:20220101T000000
END:STANDARD
END:VTIMEZONE
BEGIN:VEVENT
DTSTART;TZID=America/Sao_Paulo:20230709T083000
DTEND;TZID=America/Sao_Paulo:20230709T123000
DTSTAMP:20260423T180456
CREATED:20230630T170631Z
LAST-MODIFIED:20230630T170631Z
UID:41907-1688891400-1688905800@www.escoteirossp.org.br
SUMMARY:Desfile Cívico-Militar de 09 de julho
DESCRIPTION:DESFILE CÍVICO-MILITAR DE 9 DE JULHO COMEMORATIVO AO 90º ANIVERSÁRIO DA REVOLUÇÃO CONSTITUCIONALISTA DE 1932 – SÃO PAULO/SP\nA Revolução Constitucionalista\, que teve seu marco inicial no dia 9 de julho de 1932\, tinha por objetivo derrubar o Governo Provisório de Getúlio\nVargas e a convocação de uma Assembleia Nacional Constituinte. Durante os conflitos\, diversas organizações civis\, dentre as quais escoteiros de São\nPaulo e Minas Gerais\, se mobilizaram como apoio e auxílio aos revolucionários\, no envio e recepção de mensagens\, socorro aos feridos\, dentre outras\nações pacíficas de apoio aos soldados e à população. Em vista de tão importante atuação\, os escoteiros são convidados a cada ano\, a participar do Desfile\nCívico-Militar em Comemoração à Revolução Constitucionalista de 1932. \nQuando?\n9 de julho de 2023 (domingo) Concentração em frente ao Museu Afro Brasil (entrada pelo portão 10 do Parque Ibirapuera) às 8h30.\nEncerramento previsto para às 12h30. \nOnde?\nParque Ibipuera – Museu Afro Brasil\nAv. Pedro Álvares Cabral\, s/n\, Parque Ibirapuera\, São Paulo/SP\nComo chegar? https://goo.gl/maps/5SdLvF5krYMb5ATP7\nOpções de metrô:\nEstação AACD Servidor – https://goo.gl/maps/ZDcypgCmhq6YgEKY9 (28 min. de caminhada)\nEstação Brigadeiro – https://goo.gl/maps/smrnZPNPNrwaCAK89 – (29min de caminhada)\nEstação Ana Rosa – https://goo.gl/maps/QgjuAe7FTgxv2n6z8 – (34min. de caminhada)\n \nQuem pode participar?\nLobinhos\, Escoteiros\, Seniores/Guias\, Pioneiros\, Escotistas e Dirigentes\, com Registro Escoteiro válido\, devidamente uniformizados/trajados\, conforme descrito no P.O.R.\nObs. Os acompanhantes devem assistir ao Desfile na área reservada ao público\, não sendo permitida a participação destes no desfile em pista. \nComo se inscrever?\nExclusivamente via PAXTU ADMINISTRATIVO\, área de Eventos\, por lote da UNIDADE ESCOTEIRA LOCAL\, do dia 30 de junho\, até às 23h59 do dia 06 de julho de 2023\, ou até serem\ncompletadas todas as vagas. \nConfira todos as informações:\nBoletim – Desfile 9 de Julho \n  \nDesfile Cívico-Militar de 09 de julho
URL:https://www.escoteirossp.org.br/evento/desfile-civico-militar-de-09-de-julho/
LOCATION:Av. Pedro Álvares Cabral\, s/n\, Parque Ibirapuera\, São Paulo/SP
ATTACH;FMTTYPE=image/png:https://www.escoteirossp.org.br/wp/wp-content/uploads/2023/06/bannersite-2.png
END:VEVENT
END:VCALENDAR