BEGIN:VCALENDAR
VERSION:2.0
PRODID:-//Escoteiros SP - ECPv6.15.20//NONSGML v1.0//EN
CALSCALE:GREGORIAN
METHOD:PUBLISH
X-WR-CALNAME:Escoteiros SP
X-ORIGINAL-URL:https://www.escoteirossp.org.br
X-WR-CALDESC:Eventos para Escoteiros SP
REFRESH-INTERVAL;VALUE=DURATION:PT1H
X-Robots-Tag:noindex
X-PUBLISHED-TTL:PT1H
BEGIN:VTIMEZONE
TZID:America/Sao_Paulo
BEGIN:STANDARD
TZOFFSETFROM:-0300
TZOFFSETTO:-0300
TZNAME:-03
DTSTART:20210101T000000
END:STANDARD
END:VTIMEZONE
BEGIN:VEVENT
DTSTART;TZID=America/Sao_Paulo:20220709T090000
DTEND;TZID=America/Sao_Paulo:20220709T090000
DTSTAMP:20260423T194215
CREATED:20220627T213844Z
LAST-MODIFIED:20220705T145316Z
UID:38668-1657357200-1657357200@www.escoteirossp.org.br
SUMMARY:DESFILE CÍVICO-MILITAR DE 9 DE JULHO
DESCRIPTION:A Revolução Constitucionalista\, que teve seu marco inicial no dia 9 de julho de 1932\, tinha por objetivo derrubar o Governo Provisório de Getúlio Vargas e a convocação de uma Assembleia Nacional Constituinte. Durante os conflitos\, diversas organizações civis\, dentre as quais escoteiros de São Paulo e Minas Gerais\, se mobilizaram como apoio e auxílio aos revolucionários\, no envio e recepção de mensagens\, socorro aos feridos\, dentre outras ações pacíficas de apoio aos soldados e à população. Em vista de tão importante atuação\, os escoteiros são convidados a cada ano\, a participar do Desfile Cívico-Militar em Comemoração à Revolução Constitucionalista de 1932. \nQuando? \n9 de julho de 2022 (sábado) às 9h \nOnde? \nAv. Pedro Álvares Cabral\, s/n\, Parque Ibirapuera\, São Paulo/SP \nQuem pode participar? \nLobinhos\, escoteiros\, seniores/guias\, pioneiros\, escotistas e dirigentes\, com registro escoteiro válido\, devidamente uniformizados/trajados\, conforme descrito no P.O.R. \nQuanto? \nA participação no Desfile é gratuita. \nComo se inscrever? \nExclusivamente via PAXTU ADMINISTRATIVO\, área de Eventos\, por lote da UNIDADE ESCOTEIRA LOCAL\, até às 23h59 do dia 7 de julho de 2022\, ou até serem completadas todas as vagas. \nConfira o boletim\nBoletim  (publicado em 05/07) \nDESFILE CÍVICO-MILITAR DE 9 DE JULHO
URL:https://www.escoteirossp.org.br/evento/desfile-civico-militar-de-9-de-julho/
LOCATION:Av. Pedro Álvares Cabral\, s/n\, Parque Ibirapuera\, São Paulo/SP
ATTACH;FMTTYPE=image/png:https://www.escoteirossp.org.br/wp/wp-content/uploads/2022/06/9de-julho.png
END:VEVENT
END:VCALENDAR