BEGIN:VCALENDAR
VERSION:2.0
PRODID:-//Escoteiros SP - ECPv6.15.20//NONSGML v1.0//EN
CALSCALE:GREGORIAN
METHOD:PUBLISH
X-WR-CALNAME:Escoteiros SP
X-ORIGINAL-URL:https://www.escoteirossp.org.br
X-WR-CALDESC:Eventos para Escoteiros SP
REFRESH-INTERVAL;VALUE=DURATION:PT1H
X-Robots-Tag:noindex
X-PUBLISHED-TTL:PT1H
BEGIN:VTIMEZONE
TZID:America/Sao_Paulo
BEGIN:STANDARD
TZOFFSETFROM:-0300
TZOFFSETTO:-0300
TZNAME:-03
DTSTART:20240101T000000
END:STANDARD
END:VTIMEZONE
BEGIN:VEVENT
DTSTART;TZID=America/Sao_Paulo:20250709T073000
DTEND;TZID=America/Sao_Paulo:20250709T123000
DTSTAMP:20260423T191408
CREATED:20250703T142456Z
LAST-MODIFIED:20250703T144549Z
UID:47786-1752046200-1752064200@www.escoteirossp.org.br
SUMMARY:Desfile de 9 de Julho - 93º Aniversário da Revolução Constitucionalista de 1932
DESCRIPTION:DESFILE CÍVICO-MILITAR DE 9 DE JULHO COMEMORATIVO AO 93º ANIVERSÁRIO DA REVOLUÇÃO CONSTITUCIONALISTA DE 1932 – SÃO PAULO/SP \nA Revolução Constitucionalista\, que teve seu marco inicial no dia 9 de julho de 1932\, tinha por objetivo derrubar o Governo Provisório de Getúlio Vargas e a convocação de uma Assembleia Nacional Constituinte. Durante os conflitos\, diversas organizações civis\, dentre as quais escoteiros de São Paulo e Minas Gerais\, se mobilizaram como apoio e auxílio aos revolucionários\, no\nenvio e recepção de mensagens\, socorro aos feridos\, dentre outras ações pacíficas de apoio aos soldados e à população. Em vista de tão importante atuação\, os escoteiros são convidados a cada ano\, a participar do Desfile Cívico-Militar em Comemoração à Revolução Constitucionalista de 1932. \nQuando\nQuarta-feira\, 9 de julho de 2025\nConcentração em frente ao Museu Afro Brasil (entrada pelo portão 10 do Parque Ibirapuera) das 7h30 às 08h\nEncerramento previsto para às 12h30\n \nOnde\nParque Ibipuera – Museu Afro Brasil\nAv. Pedro Álvares Cabral\, s/n\, Parque Ibirapuera\, São Paulo/SP\n \nConfira as informações no boletim \nDesfile de 9 de Julho – 93º Aniversário da Revolução Constitucionalista de 1932
URL:https://www.escoteirossp.org.br/evento/desfile-de-9-de-julho-93o-aniversario-da-revolucao-constitucionalista-de-1932/
LOCATION:Av. Pedro Álvares Cabral\, s/n\, Parque Ibirapuera\, São Paulo/SP
ATTACH;FMTTYPE=image/png:https://www.escoteirossp.org.br/wp/wp-content/uploads/2025/07/capasite.png
ORGANIZER;CN="Diretoria Regional de Eventos":MAILTO:eventos.sp@escoteiros.org.br
END:VEVENT
END:VCALENDAR