BEGIN:VCALENDAR
VERSION:2.0
PRODID:-//Escoteiros SP - ECPv6.15.20//NONSGML v1.0//EN
CALSCALE:GREGORIAN
METHOD:PUBLISH
X-WR-CALNAME:Escoteiros SP
X-ORIGINAL-URL:https://www.escoteirossp.org.br
X-WR-CALDESC:Eventos para Escoteiros SP
REFRESH-INTERVAL;VALUE=DURATION:PT1H
X-Robots-Tag:noindex
X-PUBLISHED-TTL:PT1H
BEGIN:VTIMEZONE
TZID:America/Sao_Paulo
BEGIN:STANDARD
TZOFFSETFROM:-0300
TZOFFSETTO:-0300
TZNAME:-03
DTSTART:20240101T000000
END:STANDARD
END:VTIMEZONE
BEGIN:VEVENT
DTSTART;TZID=America/Sao_Paulo:20250405T090000
DTEND;TZID=America/Sao_Paulo:20250405T173000
DTSTAMP:20260424T025905
CREATED:20241022T222044Z
LAST-MODIFIED:20250402T194250Z
UID:45709-1743843600-1743874200@www.escoteirossp.org.br
SUMMARY:Encontrão Escoteiro 2025
DESCRIPTION:Apresentação\nO Encontrão Escoteiro 2025 promete ser uma celebração inesquecível! Em comemoração ao Dia Mundial do Escoteiro\, vamos nos reunir no Thermas de São Pedro\, um dos maiores parques aquáticos de São Paulo\, para um dia repleto de diversão\, novas amizades e muito espírito escoteiro. Prepare-se para atividades emocionantes em um ambiente descontraído\, onde a alegria e as experiências únicas estarão por toda parte. Vem com a gente nessa grande festa! \nQuando\nSábado\, 05 de abril de 2025\nAbertura: 9h\nAbertura do Parque: 9h30\nEncerramento: 17h30 (previsão) \nOnde\nThermas de São Pedro\nRodovia SP 304 – Km 189\, Fazenda Limoeiro\, São Pedro\, SP\nConheça o local do evento \nQuem pode participar\nAssociados(as) com Registro Escoteiro válido e convidados(as) das Unidades Escoteiras Locais (UELs). A participação é aberta a Lobinhos\, Escoteiros\, Seniores/Guias\, Pioneiros\, Escotistas\, Dirigentes e seus acompanhantes. \nComo se inscrever\nAssociados: Inscrições via Meu Paxtu\, na área de Eventos\, das 00h de 24 de outubro de 2024 até 23h59 de 25 de março de 2025.\nConvidados: Inscrições pelo Meu Kit Escoteiro. \nQuanto \n\nCrianças de 01 a 06 anos: R$ 50\,00\nCrianças de 07 a 11 anos: R$ 70\,00\nJovens e Adultos (a partir de 12 anos): R$ 95\,00\nAssociados Isentos: R$ 23\,75 (limitado a 40 vagas)\n\nAcesse o boletim: \nBoletim 1 \nBoletim 2 – Transporte \nBoletim 3 – Informações Finais \nPacote Promocional: ARP + Encontrão Escoteiro \nEncontrão Escoteiro 2025
URL:https://www.escoteirossp.org.br/evento/encontrao-escoteiro-2025/
LOCATION:Thermas de São Pedro\, Rodovia SP 304 - Km 189\, Fazenda Limoeiro\, São Pedro\, SP\, 13520-000
CATEGORIES:Encontro
ATTACH;FMTTYPE=image/png:https://www.escoteirossp.org.br/wp/wp-content/uploads/2024/10/CabecalhoSite_EncontraoARP_Prancheta-1-01.png
END:VEVENT
END:VCALENDAR