BEGIN:VCALENDAR
VERSION:2.0
PRODID:-//Escoteiros SP - ECPv6.15.20//NONSGML v1.0//EN
CALSCALE:GREGORIAN
METHOD:PUBLISH
X-WR-CALNAME:Escoteiros SP
X-ORIGINAL-URL:https://www.escoteirossp.org.br
X-WR-CALDESC:Eventos para Escoteiros SP
REFRESH-INTERVAL;VALUE=DURATION:PT1H
X-Robots-Tag:noindex
X-PUBLISHED-TTL:PT1H
BEGIN:VTIMEZONE
TZID:America/Sao_Paulo
BEGIN:STANDARD
TZOFFSETFROM:-0300
TZOFFSETTO:-0300
TZNAME:-03
DTSTART:20230101T000000
END:STANDARD
END:VTIMEZONE
BEGIN:VEVENT
DTSTART;TZID=America/Sao_Paulo:20240217T083000
DTEND;TZID=America/Sao_Paulo:20240217T173000
DTSTAMP:20260423T211808
CREATED:20240124T200002Z
LAST-MODIFIED:20240124T200445Z
UID:43612-1708158600-1708191000@www.escoteirossp.org.br
SUMMARY:Encontro da Rede Escoteira de Profissionais da Educação
DESCRIPTION:O que é o Evento\nO evento será um fórum para que essas trocas aconteçam mediante apresentação de trabalhos inscritos pelos participantes da Rede e convidados\, de forma oral e em pôster\, bem como mostrar caminhos e motivar os participantes a se engajarem cada vez mais nesse contato virtuoso e proveitoso para todos. \nO porquê do Evento\nOs participantes da rede\, voluntários escoteiros e profissionais da educação formal tem muito a contribuir\, a trocarem entre si\, e esta é a oportunidade. Faz-se necessário também\, esclarecer o seu funcionamento e propiciar ferramentas para que essas trocas sejam contínuas\, virtuais ou presenciais a fim de produzir e disseminar conteúdos úteis para todas as formas de educação envolvidas. \nQuando\nSábado\, 17 de fevereiro de 2024\, das 8h30 às 17h30. \nOnde\nParque Ecológico dos Ipês – Secretaria do Meio Ambiente de Arujá\nRua Fenacita\, 500 – Jardim Fazenda Rincão – Arujá\nComo chegar: https://maps.app.goo.gl/2ncGtWXXBcEr3JVBA \nQuem pode Participar\nVoluntários do Movimento Escoteiros inscritos na rede e convidados que militam na educação formal em todos os níveis. \n  \nConfira todas as informações no boletim:\nBoletim  \nEncontro da Rede Escoteira de Profissionais da Educação
URL:https://www.escoteirossp.org.br/evento/encontro-da-rede-escoteira-de-profissionais-da-educacao/
LOCATION:Parque Ecológico dos Ipês – Secretaria do Meio Ambiente de Arujá\, Rua Fenacita\, 500 – Jardim Fazenda Rincão\, Arujá\, São Paulo\, 07428-305\, Brasil
CATEGORIES:Encontro
ATTACH;FMTTYPE=image/png:https://www.escoteirossp.org.br/wp/wp-content/uploads/2024/01/Encontro-ra.png
ORGANIZER;CN="Coordena%C3%A7%C3%A3o Regional de Estudos Escoteiros":MAILTO:estudos.sp@escoteiros.org.br
END:VEVENT
END:VCALENDAR